BEGIN:VCALENDAR
VERSION:2.0
PRODID:-//HB STUDIOS SPORTS CENTRE - ECPv6.15.17.1//NONSGML v1.0//EN
CALSCALE:GREGORIAN
METHOD:PUBLISH
X-WR-CALNAME:HB STUDIOS SPORTS CENTRE
X-ORIGINAL-URL:https://hbssc.ca
X-WR-CALDESC:Events for HB STUDIOS SPORTS CENTRE
REFRESH-INTERVAL;VALUE=DURATION:PT1H
X-Robots-Tag:noindex
X-PUBLISHED-TTL:PT1H
BEGIN:VTIMEZONE
TZID:America/Halifax
BEGIN:DAYLIGHT
TZOFFSETFROM:-0400
TZOFFSETTO:-0300
TZNAME:ADT
DTSTART:20250309T060000
END:DAYLIGHT
BEGIN:STANDARD
TZOFFSETFROM:-0300
TZOFFSETTO:-0400
TZNAME:AST
DTSTART:20251102T050000
END:STANDARD
BEGIN:DAYLIGHT
TZOFFSETFROM:-0400
TZOFFSETTO:-0300
TZNAME:ADT
DTSTART:20260308T060000
END:DAYLIGHT
BEGIN:STANDARD
TZOFFSETFROM:-0300
TZOFFSETTO:-0400
TZNAME:AST
DTSTART:20261101T050000
END:STANDARD
BEGIN:DAYLIGHT
TZOFFSETFROM:-0400
TZOFFSETTO:-0300
TZNAME:ADT
DTSTART:20270314T060000
END:DAYLIGHT
BEGIN:STANDARD
TZOFFSETFROM:-0300
TZOFFSETTO:-0400
TZNAME:AST
DTSTART:20271107T050000
END:STANDARD
END:VTIMEZONE
BEGIN:VEVENT
DTSTART;TZID=America/Halifax:20260420T093000
DTEND;TZID=America/Halifax:20260420T113000
DTSTAMP:20260420T014017
CREATED:20250812T162818Z
LAST-MODIFIED:20260316T165831Z
UID:10020728-1776677400-1776684600@hbssc.ca
SUMMARY:Imagination Playground
DESCRIPTION:
URL:https://hbssc.ca/event/imagination-playground-6/2026-04-20/
CATEGORIES:Playing Field
END:VEVENT
BEGIN:VEVENT
DTSTART;TZID=America/Halifax:20260420T134500
DTEND;TZID=America/Halifax:20260420T144500
DTSTAMP:20260420T014017
CREATED:20251107T162325Z
LAST-MODIFIED:20260120T174347Z
UID:10021529-1776692700-1776696300@hbssc.ca
SUMMARY:PVEC LC's (track/sensory room)
DESCRIPTION:Andrea Whynot
URL:https://hbssc.ca/event/pvec-lcs-1-2-field-sensory-rooms/2026-04-20/
CATEGORIES:Sensory Experience Room
END:VEVENT
BEGIN:VEVENT
DTSTART;TZID=America/Halifax:20260420T170000
DTEND;TZID=America/Halifax:20260420T210000
DTSTAMP:20260420T014017
CREATED:20260323T135050Z
LAST-MODIFIED:20260323T135051Z
UID:10025421-1776704400-1776718800@hbssc.ca
SUMMARY:SSUFC
DESCRIPTION:Sarah Taylor
URL:https://hbssc.ca/event/ssufc-13-3/
CATEGORIES:Playing Field
END:VEVENT
BEGIN:VEVENT
DTSTART;TZID=America/Halifax:20260420T190000
DTEND;TZID=America/Halifax:20260420T210000
DTSTAMP:20260420T014017
CREATED:20250417T184256Z
LAST-MODIFIED:20250417T184256Z
UID:10019478-1776711600-1776718800@hbssc.ca
SUMMARY:The Lahave River Salmon Association
DESCRIPTION:Eva Devine
URL:https://hbssc.ca/event/the-lahave-river-salmon-association/2026-04-20/
CATEGORIES:Multi-Purpose Function Room
END:VEVENT
END:VCALENDAR