BEGIN:VCALENDAR
VERSION:2.0
PRODID:-//HB STUDIOS SPORTS CENTRE - ECPv6.15.17.1//NONSGML v1.0//EN
CALSCALE:GREGORIAN
METHOD:PUBLISH
X-WR-CALNAME:HB STUDIOS SPORTS CENTRE
X-ORIGINAL-URL:https://hbssc.ca
X-WR-CALDESC:Events for HB STUDIOS SPORTS CENTRE
REFRESH-INTERVAL;VALUE=DURATION:PT1H
X-Robots-Tag:noindex
X-PUBLISHED-TTL:PT1H
BEGIN:VTIMEZONE
TZID:America/Halifax
BEGIN:DAYLIGHT
TZOFFSETFROM:-0400
TZOFFSETTO:-0300
TZNAME:ADT
DTSTART:20250309T060000
END:DAYLIGHT
BEGIN:STANDARD
TZOFFSETFROM:-0300
TZOFFSETTO:-0400
TZNAME:AST
DTSTART:20251102T050000
END:STANDARD
BEGIN:DAYLIGHT
TZOFFSETFROM:-0400
TZOFFSETTO:-0300
TZNAME:ADT
DTSTART:20260308T060000
END:DAYLIGHT
BEGIN:STANDARD
TZOFFSETFROM:-0300
TZOFFSETTO:-0400
TZNAME:AST
DTSTART:20261101T050000
END:STANDARD
BEGIN:DAYLIGHT
TZOFFSETFROM:-0400
TZOFFSETTO:-0300
TZNAME:ADT
DTSTART:20270314T060000
END:DAYLIGHT
BEGIN:STANDARD
TZOFFSETFROM:-0300
TZOFFSETTO:-0400
TZNAME:AST
DTSTART:20271107T050000
END:STANDARD
END:VTIMEZONE
BEGIN:VEVENT
DTSTART;TZID=America/Halifax:20260422T093000
DTEND;TZID=America/Halifax:20260422T113000
DTSTAMP:20260422T020641
CREATED:20250812T162818Z
LAST-MODIFIED:20260316T165831Z
UID:10020729-1776850200-1776857400@hbssc.ca
SUMMARY:Imagination Playground
DESCRIPTION:
URL:https://hbssc.ca/event/imagination-playground-6/2026-04-22/
CATEGORIES:Playing Field
END:VEVENT
BEGIN:VEVENT
DTSTART;TZID=America/Halifax:20260422T134500
DTEND;TZID=America/Halifax:20260422T144500
DTSTAMP:20260422T020641
CREATED:20251205T171931Z
LAST-MODIFIED:20251205T171932Z
UID:10021558-1776865500-1776869100@hbssc.ca
SUMMARY:PVEC LC's (Sensory/ track)
DESCRIPTION:Andrea Whynot
URL:https://hbssc.ca/event/pvec-lcs-sensory-1-2-field-2/2026-04-22/
CATEGORIES:Sensory Experience Room
END:VEVENT
BEGIN:VEVENT
DTSTART;TZID=America/Halifax:20260422T160000
DTEND;TZID=America/Halifax:20260422T170000
DTSTAMP:20260422T020641
CREATED:20260331T135556Z
LAST-MODIFIED:20260331T135556Z
UID:10027351-1776873600-1776877200@hbssc.ca
SUMMARY:Bayview Track Closure
DESCRIPTION:Chad Frittenburg
URL:https://hbssc.ca/event/bayview-track-closure/2026-04-22/
CATEGORIES:Exercise Track
END:VEVENT
BEGIN:VEVENT
DTSTART;TZID=America/Halifax:20260422T170000
DTEND;TZID=America/Halifax:20260422T180000
DTSTAMP:20260422T020641
CREATED:20260404T123808Z
LAST-MODIFIED:20260404T123808Z
UID:10027424-1776877200-1776880800@hbssc.ca
SUMMARY:SSUFC
DESCRIPTION:Sarah Taylor
URL:https://hbssc.ca/event/ssufc-14/
END:VEVENT
BEGIN:VEVENT
DTSTART;TZID=America/Halifax:20260422T170000
DTEND;TZID=America/Halifax:20260422T183000
DTSTAMP:20260422T020641
CREATED:20260408T155508Z
LAST-MODIFIED:20260408T155508Z
UID:10027515-1776877200-1776882600@hbssc.ca
SUMMARY:Bright and Lion Rugby- Meeting room
DESCRIPTION:Tyler Seaward
URL:https://hbssc.ca/event/bright-and-lion-rugby-meeting-room/
CATEGORIES:Multi-Purpose Function Room
END:VEVENT
BEGIN:VEVENT
DTSTART;TZID=America/Halifax:20260422T173000
DTEND;TZID=America/Halifax:20260422T183000
DTSTAMP:20260422T020641
CREATED:20260223T135920Z
LAST-MODIFIED:20260223T135920Z
UID:10026664-1776879000-1776882600@hbssc.ca
SUMMARY:Warrior Within Fitness
DESCRIPTION:L Sawler
URL:https://hbssc.ca/event/warrior-within-fitness-2/2026-04-22/
CATEGORIES:Back Matted Fitness Area
END:VEVENT
BEGIN:VEVENT
DTSTART;TZID=America/Halifax:20260422T183000
DTEND;TZID=America/Halifax:20260422T200000
DTSTAMP:20260422T020641
CREATED:20260408T155626Z
LAST-MODIFIED:20260408T155906Z
UID:10027516-1776882600-1776888000@hbssc.ca
SUMMARY:Bright and Lion Rugby - 1/2 Field
DESCRIPTION:Tyler Seward
URL:https://hbssc.ca/event/bright-and-lion-rugbyn-1-2-field/
CATEGORIES:Playing Field
END:VEVENT
END:VCALENDAR