BEGIN:VCALENDAR
VERSION:2.0
PRODID:-//HB STUDIOS SPORTS CENTRE - ECPv6.15.17.1//NONSGML v1.0//EN
CALSCALE:GREGORIAN
METHOD:PUBLISH
X-WR-CALNAME:HB STUDIOS SPORTS CENTRE
X-ORIGINAL-URL:https://hbssc.ca
X-WR-CALDESC:Events for HB STUDIOS SPORTS CENTRE
REFRESH-INTERVAL;VALUE=DURATION:PT1H
X-Robots-Tag:noindex
X-PUBLISHED-TTL:PT1H
BEGIN:VTIMEZONE
TZID:America/Halifax
BEGIN:DAYLIGHT
TZOFFSETFROM:-0400
TZOFFSETTO:-0300
TZNAME:ADT
DTSTART:20250309T060000
END:DAYLIGHT
BEGIN:STANDARD
TZOFFSETFROM:-0300
TZOFFSETTO:-0400
TZNAME:AST
DTSTART:20251102T050000
END:STANDARD
BEGIN:DAYLIGHT
TZOFFSETFROM:-0400
TZOFFSETTO:-0300
TZNAME:ADT
DTSTART:20260308T060000
END:DAYLIGHT
BEGIN:STANDARD
TZOFFSETFROM:-0300
TZOFFSETTO:-0400
TZNAME:AST
DTSTART:20261101T050000
END:STANDARD
BEGIN:DAYLIGHT
TZOFFSETFROM:-0400
TZOFFSETTO:-0300
TZNAME:ADT
DTSTART:20270314T060000
END:DAYLIGHT
BEGIN:STANDARD
TZOFFSETFROM:-0300
TZOFFSETTO:-0400
TZNAME:AST
DTSTART:20271107T050000
END:STANDARD
END:VTIMEZONE
BEGIN:VEVENT
DTSTART;TZID=America/Halifax:20260423T110000
DTEND;TZID=America/Halifax:20260423T120000
DTSTAMP:20260423T012617
CREATED:20260324T144558Z
LAST-MODIFIED:20260324T144558Z
UID:10027236-1776942000-1776945600@hbssc.ca
SUMMARY:SSRCE S Conrad 1/2 field & sensory
DESCRIPTION:Sherrene Conrad
URL:https://hbssc.ca/event/ssrce-s-conrad-1-2-field-sensory/2026-04-23/
CATEGORIES:Playing Field,Sensory Experience Room
END:VEVENT
BEGIN:VEVENT
DTSTART;TZID=America/Halifax:20260423T160000
DTEND;TZID=America/Halifax:20260423T173000
DTSTAMP:20260423T012617
CREATED:20250710T014645Z
LAST-MODIFIED:20250929T195237Z
UID:10021241-1776960000-1776965400@hbssc.ca
SUMMARY:PVEC Rugby
DESCRIPTION:Andrew Dixon/ Cameron Strong
URL:https://hbssc.ca/event/pvec-rugby-33/2026-04-23/
CATEGORIES:Playing Field
END:VEVENT
BEGIN:VEVENT
DTSTART;TZID=America/Halifax:20260423T180000
DTEND;TZID=America/Halifax:20260423T190000
DTSTAMP:20260423T012617
CREATED:20251014T162006Z
LAST-MODIFIED:20251014T162402Z
UID:10021393-1776967200-1776970800@hbssc.ca
SUMMARY:MODL Mutisport
DESCRIPTION:
URL:https://hbssc.ca/event/modl-mutisport/2026-04-23/
CATEGORIES:Playing Field
END:VEVENT
BEGIN:VEVENT
DTSTART;TZID=America/Halifax:20260423T190000
DTEND;TZID=America/Halifax:20260423T203000
DTSTAMP:20260423T012617
CREATED:20260408T124152Z
LAST-MODIFIED:20260408T124152Z
UID:10027511-1776970800-1776976200@hbssc.ca
SUMMARY:Bridgewater Baseball
DESCRIPTION:Chris Zinck
URL:https://hbssc.ca/event/bridgewater-baseball-4/2026-04-23/
CATEGORIES:Playing Field
END:VEVENT
BEGIN:VEVENT
DTSTART;TZID=America/Halifax:20260423T203000
DTEND;TZID=America/Halifax:20260423T213000
DTSTAMP:20260423T012617
CREATED:20250709T211443Z
LAST-MODIFIED:20250709T211443Z
UID:10020088-1776976200-1776979800@hbssc.ca
SUMMARY:DAD BALL
DESCRIPTION:Jason McCarthy
URL:https://hbssc.ca/event/dad-ball-25/2026-04-23/
CATEGORIES:Playing Field
END:VEVENT
END:VCALENDAR