BEGIN:VCALENDAR
VERSION:2.0
PRODID:-//HB STUDIOS SPORTS CENTRE - ECPv6.15.17.1//NONSGML v1.0//EN
CALSCALE:GREGORIAN
METHOD:PUBLISH
X-ORIGINAL-URL:https://hbssc.ca
X-WR-CALDESC:Events for HB STUDIOS SPORTS CENTRE
REFRESH-INTERVAL;VALUE=DURATION:PT1H
X-Robots-Tag:noindex
X-PUBLISHED-TTL:PT1H
BEGIN:VTIMEZONE
TZID:America/Halifax
BEGIN:DAYLIGHT
TZOFFSETFROM:-0400
TZOFFSETTO:-0300
TZNAME:ADT
DTSTART:20250309T060000
END:DAYLIGHT
BEGIN:STANDARD
TZOFFSETFROM:-0300
TZOFFSETTO:-0400
TZNAME:AST
DTSTART:20251102T050000
END:STANDARD
BEGIN:DAYLIGHT
TZOFFSETFROM:-0400
TZOFFSETTO:-0300
TZNAME:ADT
DTSTART:20260308T060000
END:DAYLIGHT
BEGIN:STANDARD
TZOFFSETFROM:-0300
TZOFFSETTO:-0400
TZNAME:AST
DTSTART:20261101T050000
END:STANDARD
BEGIN:DAYLIGHT
TZOFFSETFROM:-0400
TZOFFSETTO:-0300
TZNAME:ADT
DTSTART:20270314T060000
END:DAYLIGHT
BEGIN:STANDARD
TZOFFSETFROM:-0300
TZOFFSETTO:-0400
TZNAME:AST
DTSTART:20271107T050000
END:STANDARD
END:VTIMEZONE
BEGIN:VEVENT
DTSTART;TZID=America/Halifax:20260114T160000
DTEND;TZID=America/Halifax:20260114T173000
DTSTAMP:20260421T214125
CREATED:20260108T224458Z
LAST-MODIFIED:20260108T224458Z
UID:10021863-1768406400-1768411800@hbssc.ca
SUMMARY:SSUFC
DESCRIPTION:Peter Craig
URL:https://hbssc.ca/event/ssufc-9/2026-01-14/
CATEGORIES:Playing Field
END:VEVENT
BEGIN:VEVENT
DTSTART;TZID=America/Halifax:20260115T110000
DTEND;TZID=America/Halifax:20260115T120000
DTSTAMP:20260421T214125
CREATED:20260114T181019Z
LAST-MODIFIED:20260114T181019Z
UID:10022100-1768474800-1768478400@hbssc.ca
SUMMARY:MLCC S Conrad (1/2 field only)
DESCRIPTION:Sherrene Conrad
URL:https://hbssc.ca/event/mlcc-s-conrad-1-2-field-only/2026-01-15/
CATEGORIES:Playing Field
END:VEVENT
BEGIN:VEVENT
DTSTART;TZID=America/Halifax:20260117T130000
DTEND;TZID=America/Halifax:20260117T135500
DTSTAMP:20260421T214125
CREATED:20251009T134535Z
LAST-MODIFIED:20251009T134753Z
UID:10021291-1768654800-1768658100@hbssc.ca
SUMMARY:Mackenzie Full Field Bouncy
DESCRIPTION:Jenna
URL:https://hbssc.ca/event/mackenzie-full-field-bouncy/
CATEGORIES:Playing Field
END:VEVENT
BEGIN:VEVENT
DTSTART;TZID=America/Halifax:20260117T140000
DTEND;TZID=America/Halifax:20260117T145500
DTSTAMP:20260421T214125
CREATED:20250714T202653Z
LAST-MODIFIED:20250714T202653Z
UID:10020538-1768658400-1768661700@hbssc.ca
SUMMARY:Higgon - Half Field Bouncy
DESCRIPTION:Elizabeth H
URL:https://hbssc.ca/event/higgon-half-field-bouncy/
CATEGORIES:Playing Field
END:VEVENT
BEGIN:VEVENT
DTSTART;TZID=America/Halifax:20260118T130000
DTEND;TZID=America/Halifax:20260118T140000
DTSTAMP:20260421T214125
CREATED:20251209T172608Z
LAST-MODIFIED:20251209T173514Z
UID:10021724-1768741200-1768744800@hbssc.ca
SUMMARY:Fralic Full Field Bouncy
DESCRIPTION:Amber
URL:https://hbssc.ca/event/fralic-full-field-bouncy/
CATEGORIES:Playing Field
END:VEVENT
BEGIN:VEVENT
DTSTART;TZID=America/Halifax:20260118T203000
DTEND;TZID=America/Halifax:20260118T213000
DTSTAMP:20260421T214125
CREATED:20260118T233227Z
LAST-MODIFIED:20260118T233345Z
UID:10022831-1768768200-1768771800@hbssc.ca
SUMMARY:Jerin soccer
DESCRIPTION:
URL:https://hbssc.ca/event/jerin-soccer-5/
CATEGORIES:Playing Field
END:VEVENT
BEGIN:VEVENT
DTSTART;TZID=America/Halifax:20260124T123000
DTEND;TZID=America/Halifax:20260124T133000
DTSTAMP:20260421T214125
CREATED:20251023T143559Z
LAST-MODIFIED:20251023T143559Z
UID:10021440-1769257800-1769261400@hbssc.ca
SUMMARY:Eyre 1/2 field bouncy castle Party
DESCRIPTION:Vanessa
URL:https://hbssc.ca/event/eyre-1-2-field-bouncy-castle-party-2/
CATEGORIES:Playing Field
END:VEVENT
BEGIN:VEVENT
DTSTART;TZID=America/Halifax:20260125T140000
DTEND;TZID=America/Halifax:20260125T150000
DTSTAMP:20260421T214125
CREATED:20250829T115507Z
LAST-MODIFIED:20250829T115507Z
UID:10020880-1769349600-1769353200@hbssc.ca
SUMMARY:Foran Full Field Bouncy Castle Party
DESCRIPTION:Christina Foran
URL:https://hbssc.ca/event/foran-full-field-bouncy-castle-party-2/
CATEGORIES:Playing Field
END:VEVENT
BEGIN:VEVENT
DTSTART;TZID=America/Halifax:20260127T140000
DTEND;TZID=America/Halifax:20260127T150000
DTSTAMP:20260421T214125
CREATED:20260127T170005Z
LAST-MODIFIED:20260127T170005Z
UID:10023989-1769522400-1769526000@hbssc.ca
SUMMARY:1/4 Field Mason
DESCRIPTION:Julie
URL:https://hbssc.ca/event/1-4-field-mason/
CATEGORIES:Playing Field
END:VEVENT
BEGIN:VEVENT
DTSTART;TZID=America/Halifax:20260131T123000
DTEND;TZID=America/Halifax:20260131T132500
DTSTAMP:20260421T214125
CREATED:20251117T230602Z
LAST-MODIFIED:20251117T230602Z
UID:10021603-1769862600-1769865900@hbssc.ca
SUMMARY:Walsh Half Field Bouncy Castle
DESCRIPTION:Chantelle Walsh
URL:https://hbssc.ca/event/walsh-half-field-bouncy-castle/
CATEGORIES:Playing Field
END:VEVENT
BEGIN:VEVENT
DTSTART;TZID=America/Halifax:20260131T140000
DTEND;TZID=America/Halifax:20260131T150000
DTSTAMP:20260421T214125
CREATED:20251023T145504Z
LAST-MODIFIED:20251023T145504Z
UID:10021442-1769868000-1769871600@hbssc.ca
SUMMARY:Slauenwhite 1/2 field bouncy castle party
DESCRIPTION:Caitlyn
URL:https://hbssc.ca/event/slauenwhite-1-2-field-bouncy-castle-party-2/
CATEGORIES:Playing Field
END:VEVENT
BEGIN:VEVENT
DTSTART;TZID=America/Halifax:20260131T150000
DTEND;TZID=America/Halifax:20260131T155500
DTSTAMP:20260421T214125
CREATED:20260108T180325Z
LAST-MODIFIED:20260108T180458Z
UID:10021858-1769871600-1769874900@hbssc.ca
SUMMARY:Barker Imagination Playground Party
DESCRIPTION:Beth (field and sensory room)
URL:https://hbssc.ca/event/barker-imagination-playground-party/
CATEGORIES:Playing Field,Sensory Experience Room
END:VEVENT
BEGIN:VEVENT
DTSTART;TZID=America/Halifax:20260131T150000
DTEND;TZID=America/Halifax:20260131T155500
DTSTAMP:20260421T214125
CREATED:20260108T180407Z
LAST-MODIFIED:20260108T180407Z
UID:10021859-1769871600-1769874900@hbssc.ca
SUMMARY:Barker Sensory Room
DESCRIPTION:Beth
URL:https://hbssc.ca/event/barker-sensory-room/
CATEGORIES:Playing Field,Sensory Experience Room
END:VEVENT
BEGIN:VEVENT
DTSTART;TZID=America/Halifax:20260201T130000
DTEND;TZID=America/Halifax:20260201T150000
DTSTAMP:20260421T214125
CREATED:20251217T171622Z
LAST-MODIFIED:20251217T171622Z
UID:10021760-1769950800-1769958000@hbssc.ca
SUMMARY:Crawford Baseball Tryouts
DESCRIPTION:Full Field and Batting Cage \nRachel
URL:https://hbssc.ca/event/crawford-baseball-tryouts/
CATEGORIES:Playing Field,Sprint Track
END:VEVENT
BEGIN:VEVENT
DTSTART;TZID=America/Halifax:20260203T083000
DTEND;TZID=America/Halifax:20260203T093000
DTSTAMP:20260421T214125
CREATED:20260115T180042Z
LAST-MODIFIED:20260129T153503Z
UID:10022512-1770107400-1770111000@hbssc.ca
SUMMARY:143 Construction Engineering
DESCRIPTION:Leslie Peddle
URL:https://hbssc.ca/event/143-construction-engineering/
CATEGORIES:Playing Field
END:VEVENT
BEGIN:VEVENT
DTSTART;TZID=America/Halifax:20260203T160000
DTEND;TZID=America/Halifax:20260203T220000
DTSTAMP:20260421T214125
CREATED:20260206T142608Z
LAST-MODIFIED:20260207T152403Z
UID:10020265-1770134400-1770156000@hbssc.ca
SUMMARY:SSUFC Full Field
DESCRIPTION:Peter Craig
URL:https://hbssc.ca/event/ssufc-full-field-3-2/
CATEGORIES:Playing Field
END:VEVENT
BEGIN:VEVENT
DTSTART;TZID=America/Halifax:20260205T160000
DTEND;TZID=America/Halifax:20260205T203000
DTSTAMP:20260421T214125
CREATED:20260206T142436Z
LAST-MODIFIED:20260207T152702Z
UID:10020384-1770307200-1770323400@hbssc.ca
SUMMARY:SSUFC
DESCRIPTION:Peter Craig
URL:https://hbssc.ca/event/ssufc-195-2/
CATEGORIES:Playing Field
END:VEVENT
BEGIN:VEVENT
DTSTART;TZID=America/Halifax:20260207T061500
DTEND;TZID=America/Halifax:20260207T074500
DTSTAMP:20260421T214125
CREATED:20260206T151006Z
LAST-MODIFIED:20260206T151006Z
UID:10024696-1770444900-1770450300@hbssc.ca
SUMMARY:SSUFC
DESCRIPTION:
URL:https://hbssc.ca/event/ssufc-12/
CATEGORIES:Playing Field
END:VEVENT
BEGIN:VEVENT
DTSTART;TZID=America/Halifax:20260207T123000
DTEND;TZID=America/Halifax:20260207T132500
DTSTAMP:20260421T214125
CREATED:20260114T193132Z
LAST-MODIFIED:20260114T193946Z
UID:10022108-1770467400-1770470700@hbssc.ca
SUMMARY:Markwick Half-Field Bouncy Party
DESCRIPTION:Jaime
URL:https://hbssc.ca/event/markwick-half-field-bouncy-party/
CATEGORIES:Playing Field
END:VEVENT
BEGIN:VEVENT
DTSTART;TZID=America/Halifax:20260207T140000
DTEND;TZID=America/Halifax:20260207T160000
DTSTAMP:20260421T214125
CREATED:20250909T144802Z
LAST-MODIFIED:20250909T144802Z
UID:10021002-1770472800-1770480000@hbssc.ca
SUMMARY:Shaw 2 hour Sports Party
DESCRIPTION:Robert
URL:https://hbssc.ca/event/shaw-2-hour-sports-party/
CATEGORIES:Playing Field
END:VEVENT
BEGIN:VEVENT
DTSTART;TZID=America/Halifax:20260207T163000
DTEND;TZID=America/Halifax:20260207T172500
DTSTAMP:20260421T214125
CREATED:20260104T193512Z
LAST-MODIFIED:20260104T193512Z
UID:10021793-1770481800-1770485100@hbssc.ca
SUMMARY:Smits Sports Party
DESCRIPTION:Nida Smits
URL:https://hbssc.ca/event/smits-sports-party-3/
CATEGORIES:Playing Field
END:VEVENT
BEGIN:VEVENT
DTSTART;TZID=America/Halifax:20260208T130000
DTEND;TZID=America/Halifax:20260208T135500
DTSTAMP:20260421T214125
CREATED:20251212T174741Z
LAST-MODIFIED:20251212T174741Z
UID:10021739-1770555600-1770558900@hbssc.ca
SUMMARY:Creaser Full Field Bouncy
DESCRIPTION:Maygen
URL:https://hbssc.ca/event/creaser-full-field-bouncy/
CATEGORIES:Playing Field
END:VEVENT
BEGIN:VEVENT
DTSTART;TZID=America/Halifax:20260208T141500
DTEND;TZID=America/Halifax:20260208T151000
DTSTAMP:20260421T214125
CREATED:20251216T153642Z
LAST-MODIFIED:20251216T153701Z
UID:10021755-1770560100-1770563400@hbssc.ca
SUMMARY:Mailman Full field Bouncy Castle Party
DESCRIPTION:Krystal
URL:https://hbssc.ca/event/mailman-full-field-bouncy-castle-party/
CATEGORIES:Playing Field
END:VEVENT
BEGIN:VEVENT
DTSTART;TZID=America/Halifax:20260210T110000
DTEND;TZID=America/Halifax:20260210T120000
DTSTAMP:20260421T214125
CREATED:20251230T144727Z
LAST-MODIFIED:20251230T144727Z
UID:10021779-1770721200-1770724800@hbssc.ca
SUMMARY:+55 Women's Walking Soccer
DESCRIPTION:
URL:https://hbssc.ca/event/55-womens-walking-soccer-4/
CATEGORIES:Playing Field
END:VEVENT
BEGIN:VEVENT
DTSTART;TZID=America/Halifax:20260210T160000
DTEND;TZID=America/Halifax:20260210T170000
DTSTAMP:20260421T214125
CREATED:20260207T152824Z
LAST-MODIFIED:20260207T152826Z
UID:10020130-1770739200-1770742800@hbssc.ca
SUMMARY:PVEC Rugby
DESCRIPTION:Andrew Dixon 3/4 field from 4:00-4:30PM
URL:https://hbssc.ca/event/pvec-rugby-32-2/
CATEGORIES:Playing Field
END:VEVENT
BEGIN:VEVENT
DTSTART;TZID=America/Halifax:20260212T160000
DTEND;TZID=America/Halifax:20260212T170000
DTSTAMP:20260421T214125
CREATED:20260207T153242Z
LAST-MODIFIED:20260207T153244Z
UID:10021231-1770912000-1770915600@hbssc.ca
SUMMARY:PVEC Rugby
DESCRIPTION:Andrew Dixon/ Cameron Strong
URL:https://hbssc.ca/event/pvec-rugby-33-2/
CATEGORIES:Playing Field
END:VEVENT
BEGIN:VEVENT
DTSTART;VALUE=DATE:20260213
DTEND;VALUE=DATE:20260214
DTSTAMP:20260421T214125
CREATED:20250708T171347Z
LAST-MODIFIED:20250708T171347Z
UID:10020025-1770940800-1771027199@hbssc.ca
SUMMARY:SSUFC Annual South Shore Soccer Symposium
DESCRIPTION:
URL:https://hbssc.ca/event/ssufc-annual-south-shore-soccer-symposium/
CATEGORIES:EastLink Community Room,Multi-Purpose Function Room,Playing Field,Sprint Track
END:VEVENT
BEGIN:VEVENT
DTSTART;VALUE=DATE:20260214
DTEND;VALUE=DATE:20260215
DTSTAMP:20260421T214125
CREATED:20250708T171416Z
LAST-MODIFIED:20250708T171416Z
UID:10020026-1771027200-1771113599@hbssc.ca
SUMMARY:SSUFC Annual South Shore Soccer Symposium
DESCRIPTION:
URL:https://hbssc.ca/event/ssufc-annual-south-shore-soccer-symposium-2/
CATEGORIES:EastLink Community Room,Multi-Purpose Function Room,Playing Field,Sprint Track
END:VEVENT
BEGIN:VEVENT
DTSTART;VALUE=DATE:20260215
DTEND;VALUE=DATE:20260216
DTSTAMP:20260421T214125
CREATED:20250708T171501Z
LAST-MODIFIED:20250708T171501Z
UID:10020027-1771113600-1771199999@hbssc.ca
SUMMARY:SSUFC Annual South Shore Soccer Symposium
DESCRIPTION:
URL:https://hbssc.ca/event/ssufc-annual-south-shore-soccer-symposium-3/
CATEGORIES:EastLink Community Room,Multi-Purpose Function Room,Playing Field,Sprint Track
END:VEVENT
BEGIN:VEVENT
DTSTART;TZID=America/Halifax:20260215T193000
DTEND;TZID=America/Halifax:20260215T203000
DTSTAMP:20260421T214125
CREATED:20260215T135654Z
LAST-MODIFIED:20260215T135654Z
UID:10026308-1771183800-1771187400@hbssc.ca
SUMMARY:Soccer
DESCRIPTION:
URL:https://hbssc.ca/event/soccer/
CATEGORIES:Playing Field
END:VEVENT
END:VCALENDAR