BEGIN:VCALENDAR
VERSION:2.0
PRODID:-//HB STUDIOS SPORTS CENTRE - ECPv6.15.17.1//NONSGML v1.0//EN
CALSCALE:GREGORIAN
METHOD:PUBLISH
X-ORIGINAL-URL:https://hbssc.ca
X-WR-CALDESC:Events for HB STUDIOS SPORTS CENTRE
REFRESH-INTERVAL;VALUE=DURATION:PT1H
X-Robots-Tag:noindex
X-PUBLISHED-TTL:PT1H
BEGIN:VTIMEZONE
TZID:America/Halifax
BEGIN:DAYLIGHT
TZOFFSETFROM:-0400
TZOFFSETTO:-0300
TZNAME:ADT
DTSTART:20250309T060000
END:DAYLIGHT
BEGIN:STANDARD
TZOFFSETFROM:-0300
TZOFFSETTO:-0400
TZNAME:AST
DTSTART:20251102T050000
END:STANDARD
BEGIN:DAYLIGHT
TZOFFSETFROM:-0400
TZOFFSETTO:-0300
TZNAME:ADT
DTSTART:20260308T060000
END:DAYLIGHT
BEGIN:STANDARD
TZOFFSETFROM:-0300
TZOFFSETTO:-0400
TZNAME:AST
DTSTART:20261101T050000
END:STANDARD
BEGIN:DAYLIGHT
TZOFFSETFROM:-0400
TZOFFSETTO:-0300
TZNAME:ADT
DTSTART:20270314T060000
END:DAYLIGHT
BEGIN:STANDARD
TZOFFSETFROM:-0300
TZOFFSETTO:-0400
TZNAME:AST
DTSTART:20271107T050000
END:STANDARD
BEGIN:DAYLIGHT
TZOFFSETFROM:-0400
TZOFFSETTO:-0300
TZNAME:ADT
DTSTART:20280312T060000
END:DAYLIGHT
BEGIN:STANDARD
TZOFFSETFROM:-0300
TZOFFSETTO:-0400
TZNAME:AST
DTSTART:20281105T050000
END:STANDARD
END:VTIMEZONE
BEGIN:VEVENT
DTSTART;TZID=America/Halifax:20260926T080000
DTEND;TZID=America/Halifax:20260926T130000
DTSTAMP:20260419T221043
CREATED:20260217T194631Z
LAST-MODIFIED:20260409T174143Z
UID:10026488-1790409600-1790427600@hbssc.ca
SUMMARY:South Shore Autism - Walk Your Way
DESCRIPTION:Chantel Milner – Track closed to public\, sports & toys on field\, yard games on sprint track\, sensory rooms\, community room + foyer space
URL:https://hbssc.ca/event/south-shore-autism-walk-your-way/
CATEGORIES:EastLink Community Room,Exercise Track,Playing Field,Sensory Experience Room,Sensory Magic room (room#2),Sprint Track
END:VEVENT
BEGIN:VEVENT
DTSTART;VALUE=DATE:20261003
DTEND;VALUE=DATE:20261004
DTSTAMP:20260419T221043
CREATED:20250717T192749Z
LAST-MODIFIED:20250717T192749Z
UID:10020546-1790985600-1791071999@hbssc.ca
SUMMARY:CAANS
DESCRIPTION:Leanne Lomond
URL:https://hbssc.ca/event/caans-8/2026-10-03/
CATEGORIES:Playing Field
END:VEVENT
BEGIN:VEVENT
DTSTART;TZID=America/Halifax:20261007T200000
DTEND;TZID=America/Halifax:20261007T210000
DTSTAMP:20260419T221043
CREATED:20260327T003840Z
LAST-MODIFIED:20260327T003840Z
UID:10027294-1791403200-1791406800@hbssc.ca
SUMMARY:Bright and Lions Rugby
DESCRIPTION:
URL:https://hbssc.ca/event/bright-and-lions-rugby/2026-10-07/
CATEGORIES:Playing Field
END:VEVENT
BEGIN:VEVENT
DTSTART;VALUE=DATE:20261011
DTEND;VALUE=DATE:20261012
DTSTAMP:20260419T221043
CREATED:20250918T205432Z
LAST-MODIFIED:20250918T205432Z
UID:10021104-1791676800-1791763199@hbssc.ca
SUMMARY:Gale Force Disc Dogs
DESCRIPTION:Ashley
URL:https://hbssc.ca/event/gale-force-disc-dogs/2026-10-11/
CATEGORIES:Playing Field
END:VEVENT
BEGIN:VEVENT
DTSTART;TZID=America/Halifax:20261107T080000
DTEND;TZID=America/Halifax:20261107T140000
DTSTAMP:20260419T221043
CREATED:20250710T113857Z
LAST-MODIFIED:20260115T130017Z
UID:10020469-1794038400-1794060000@hbssc.ca
SUMMARY:Healthy Living Fair
DESCRIPTION:
URL:https://hbssc.ca/event/healthy-living-fair-2/
CATEGORIES:Playing Field
END:VEVENT
BEGIN:VEVENT
DTSTART;TZID=America/Halifax:20261128T150000
DTEND;TZID=America/Halifax:20261128T155500
DTSTAMP:20260419T221043
CREATED:20260418T160703Z
LAST-MODIFIED:20260418T160703Z
UID:10027753-1795878000-1795881300@hbssc.ca
SUMMARY:Mansfield Half Field Bouncy Castle Party
DESCRIPTION:Bayleigh Mansfield
URL:https://hbssc.ca/event/mansfield-half-field-bouncy-castle-party/
CATEGORIES:Playing Field
END:VEVENT
BEGIN:VEVENT
DTSTART;TZID=America/Halifax:20261212T123000
DTEND;TZID=America/Halifax:20261212T133000
DTSTAMP:20260419T221043
CREATED:20260210T154510Z
LAST-MODIFIED:20260210T155141Z
UID:10025401-1797078600-1797082200@hbssc.ca
SUMMARY:Family holiday party and Gingerbread house decorating  Field play
DESCRIPTION:
URL:https://hbssc.ca/event/family-holiday-party-and-gingerbread-house-decorating-2/
CATEGORIES:Playing Field
END:VEVENT
BEGIN:VEVENT
DTSTART;VALUE=DATE:20270529
DTEND;VALUE=DATE:20270530
DTSTAMP:20260419T221043
CREATED:20251210T223820Z
LAST-MODIFIED:20251210T223820Z
UID:10021730-1811548800-1811635199@hbssc.ca
SUMMARY:CAANS Agility
DESCRIPTION:Leanne Lomond
URL:https://hbssc.ca/event/caans-agility/2027-05-29/
CATEGORIES:Playing Field
END:VEVENT
BEGIN:VEVENT
DTSTART;VALUE=DATE:20270710
DTEND;VALUE=DATE:20270711
DTSTAMP:20260419T221043
CREATED:20251210T223909Z
LAST-MODIFIED:20251210T223909Z
UID:10021732-1815177600-1815263999@hbssc.ca
SUMMARY:CAANA Agility
DESCRIPTION:Leanne Lomond
URL:https://hbssc.ca/event/caana-agility/2027-07-10/
CATEGORIES:Playing Field
END:VEVENT
BEGIN:VEVENT
DTSTART;VALUE=DATE:20271002
DTEND;VALUE=DATE:20271003
DTSTAMP:20260419T221043
CREATED:20251210T223955Z
LAST-MODIFIED:20251210T223955Z
UID:10021734-1822435200-1822521599@hbssc.ca
SUMMARY:CAANS Agility
DESCRIPTION:Leanne Lomond
URL:https://hbssc.ca/event/caans-agility-2/2027-10-02/
CATEGORIES:Playing Field
END:VEVENT
END:VCALENDAR