BEGIN:VCALENDAR
VERSION:2.0
PRODID:-//HB STUDIOS SPORTS CENTRE - ECPv6.15.17.1//NONSGML v1.0//EN
CALSCALE:GREGORIAN
METHOD:PUBLISH
X-WR-CALNAME:HB STUDIOS SPORTS CENTRE
X-ORIGINAL-URL:https://hbssc.ca
X-WR-CALDESC:Events for HB STUDIOS SPORTS CENTRE
REFRESH-INTERVAL;VALUE=DURATION:PT1H
X-Robots-Tag:noindex
X-PUBLISHED-TTL:PT1H
BEGIN:VTIMEZONE
TZID:America/Halifax
BEGIN:DAYLIGHT
TZOFFSETFROM:-0400
TZOFFSETTO:-0300
TZNAME:ADT
DTSTART:20240310T060000
END:DAYLIGHT
BEGIN:STANDARD
TZOFFSETFROM:-0300
TZOFFSETTO:-0400
TZNAME:AST
DTSTART:20241103T050000
END:STANDARD
BEGIN:DAYLIGHT
TZOFFSETFROM:-0400
TZOFFSETTO:-0300
TZNAME:ADT
DTSTART:20250309T060000
END:DAYLIGHT
BEGIN:STANDARD
TZOFFSETFROM:-0300
TZOFFSETTO:-0400
TZNAME:AST
DTSTART:20251102T050000
END:STANDARD
BEGIN:DAYLIGHT
TZOFFSETFROM:-0400
TZOFFSETTO:-0300
TZNAME:ADT
DTSTART:20260308T060000
END:DAYLIGHT
BEGIN:STANDARD
TZOFFSETFROM:-0300
TZOFFSETTO:-0400
TZNAME:AST
DTSTART:20261101T050000
END:STANDARD
END:VTIMEZONE
BEGIN:VEVENT
DTSTART;TZID=America/Halifax:20250724T150000
DTEND;TZID=America/Halifax:20250724T160000
DTSTAMP:20260420T004732
CREATED:20250529T161426Z
LAST-MODIFIED:20250529T161426Z
UID:10019783-1753369200-1753372800@hbssc.ca
SUMMARY:Sarzuelo Full field Bouncy Castle party
DESCRIPTION:Kae 
URL:https://hbssc.ca/event/sarzuelo-full-field-bouncy-castle-party/
CATEGORIES:Playing Field
END:VEVENT
BEGIN:VEVENT
DTSTART;TZID=America/Halifax:20250724T160000
DTEND;TZID=America/Halifax:20250724T170000
DTSTAMP:20260420T004732
CREATED:20250529T161609Z
LAST-MODIFIED:20250529T161609Z
UID:10019784-1753372800-1753376400@hbssc.ca
SUMMARY:Sarzuelo Party
DESCRIPTION:Kae
URL:https://hbssc.ca/event/sarzuelo-party/
CATEGORIES:Multi-Purpose Function Room
END:VEVENT
BEGIN:VEVENT
DTSTART;TZID=America/Halifax:20250724T203000
DTEND;TZID=America/Halifax:20250724T220000
DTSTAMP:20260420T004732
CREATED:20250703T231943Z
LAST-MODIFIED:20250703T231943Z
UID:10020003-1753389000-1753394400@hbssc.ca
SUMMARY:Lunenburg FC
DESCRIPTION:
URL:https://hbssc.ca/event/lunenburg-fc-6/2025-07-24/
CATEGORIES:Playing Field
END:VEVENT
BEGIN:VEVENT
DTSTART;TZID=America/Halifax:20250725T100000
DTEND;TZID=America/Halifax:20250725T120000
DTSTAMP:20260420T004732
CREATED:20250725T132640Z
LAST-MODIFIED:20260408T163037Z
UID:10020578-1753437600-1753444800@hbssc.ca
SUMMARY:Keep on Track YMCA Program (OPEN TO EVERYONE)
DESCRIPTION:Sam Green
URL:https://hbssc.ca/event/keep-on-track-ymca-program-open-to-everyone/2025-07-25/
CATEGORIES:Exercise Track,Multi-Purpose Function Room
END:VEVENT
BEGIN:VEVENT
DTSTART;TZID=America/Halifax:20250725T160000
DTEND;TZID=America/Halifax:20250725T174500
DTSTAMP:20260420T004732
CREATED:20250723T135020Z
LAST-MODIFIED:20250723T154655Z
UID:10020567-1753459200-1753465500@hbssc.ca
SUMMARY:Rabbai Party Room
DESCRIPTION:Albin
URL:https://hbssc.ca/event/rabbai-party-room/
CATEGORIES:Multi-Purpose Function Room
END:VEVENT
BEGIN:VEVENT
DTSTART;TZID=America/Halifax:20250725T174500
DTEND;TZID=America/Halifax:20250725T184500
DTSTAMP:20260420T004732
CREATED:20250723T134936Z
LAST-MODIFIED:20250723T134936Z
UID:10020566-1753465500-1753469100@hbssc.ca
SUMMARY:Rabbai Full Field Bouncy Castles
DESCRIPTION:Albin
URL:https://hbssc.ca/event/rabbai-full-field-bouncy-castles/
CATEGORIES:Playing Field
END:VEVENT
BEGIN:VEVENT
DTSTART;TZID=America/Halifax:20250726T100000
DTEND;TZID=America/Halifax:20250726T105500
DTSTAMP:20260420T004732
CREATED:20250702T154444Z
LAST-MODIFIED:20250702T154803Z
UID:10019983-1753524000-1753527300@hbssc.ca
SUMMARY:Blais 1/2 field bouncy castles
DESCRIPTION:
URL:https://hbssc.ca/event/blais-1-2-field-bouncy-castles/
CATEGORIES:Playing Field
END:VEVENT
BEGIN:VEVENT
DTSTART;TZID=America/Halifax:20250726T110000
DTEND;TZID=America/Halifax:20250726T114500
DTSTAMP:20260420T004732
CREATED:20250702T154556Z
LAST-MODIFIED:20250702T154556Z
UID:10019984-1753527600-1753530300@hbssc.ca
SUMMARY:Blais party room
DESCRIPTION:
URL:https://hbssc.ca/event/blais-party-room/
CATEGORIES:Multi-Purpose Function Room
END:VEVENT
BEGIN:VEVENT
DTSTART;TZID=America/Halifax:20250726T110000
DTEND;TZID=America/Halifax:20250726T130000
DTSTAMP:20260420T004732
CREATED:20250429T122556Z
LAST-MODIFIED:20250429T122556Z
UID:10019570-1753527600-1753534800@hbssc.ca
SUMMARY:Warnell /Beck Full Field Bouncy Castle Party
DESCRIPTION:Natalie
URL:https://hbssc.ca/event/warnell-beck-full-field-bouncy-castle-party/
CATEGORIES:Playing Field
END:VEVENT
BEGIN:VEVENT
DTSTART;TZID=America/Halifax:20250726T120000
DTEND;TZID=America/Halifax:20250726T140000
DTSTAMP:20260420T004732
CREATED:20250429T122642Z
LAST-MODIFIED:20250626T122748Z
UID:10019571-1753531200-1753538400@hbssc.ca
SUMMARY:Warnell /Beck Party
DESCRIPTION:Natalie
URL:https://hbssc.ca/event/wardell-beck-party/
CATEGORIES:Multi-Purpose Function Room
END:VEVENT
BEGIN:VEVENT
DTSTART;TZID=America/Halifax:20250726T130000
DTEND;TZID=America/Halifax:20250726T140000
DTSTAMP:20260420T004732
CREATED:20250410T154144Z
LAST-MODIFIED:20250410T154144Z
UID:10019416-1753534800-1753538400@hbssc.ca
SUMMARY:APFYF B McPhee
DESCRIPTION:Vicki Conrad
URL:https://hbssc.ca/event/apfyf-b-mcphee-2-2/2025-07-26/
CATEGORIES:Sensory Experience Room
END:VEVENT
BEGIN:VEVENT
DTSTART;TZID=America/Halifax:20250726T150000
DTEND;TZID=America/Halifax:20250726T155500
DTSTAMP:20260420T004732
CREATED:20250703T142947Z
LAST-MODIFIED:20250722T123533Z
UID:10019991-1753542000-1753545300@hbssc.ca
SUMMARY:Grant Full Field Bouncy Castles
DESCRIPTION:
URL:https://hbssc.ca/event/grant-full-field-bouncy-castles/
CATEGORIES:Playing Field
END:VEVENT
BEGIN:VEVENT
DTSTART;TZID=America/Halifax:20250726T150000
DTEND;TZID=America/Halifax:20250726T163000
DTSTAMP:20260420T004732
CREATED:20250616T123949Z
LAST-MODIFIED:20250616T123949Z
UID:10019870-1753542000-1753547400@hbssc.ca
SUMMARY:Williston Dance Party
DESCRIPTION:Kira
URL:https://hbssc.ca/event/williston-dance-party/
CATEGORIES:Multi-Purpose Function Room
END:VEVENT
BEGIN:VEVENT
DTSTART;TZID=America/Halifax:20250726T160000
DTEND;TZID=America/Halifax:20250726T164500
DTSTAMP:20260420T004732
CREATED:20250703T143021Z
LAST-MODIFIED:20250722T123650Z
UID:10019992-1753545600-1753548300@hbssc.ca
SUMMARY:Grant Party Room
DESCRIPTION:May need the space by the reception desk as well
URL:https://hbssc.ca/event/grant-party-room-2/
CATEGORIES:EastLink Community Room
END:VEVENT
BEGIN:VEVENT
DTSTART;TZID=America/Halifax:20250726T160000
DTEND;TZID=America/Halifax:20250726T165500
DTSTAMP:20260420T004732
CREATED:20250706T165433Z
LAST-MODIFIED:20250706T165433Z
UID:10020006-1753545600-1753548900@hbssc.ca
SUMMARY:Buffett - Half Field Bouncy
DESCRIPTION:Jayden Buffett
URL:https://hbssc.ca/event/buffett-half-field-bouncy/
CATEGORIES:Playing Field
END:VEVENT
BEGIN:VEVENT
DTSTART;TZID=America/Halifax:20250726T165500
DTEND;TZID=America/Halifax:20250726T174000
DTSTAMP:20260420T004732
CREATED:20250706T165507Z
LAST-MODIFIED:20250706T165507Z
UID:10020007-1753548900-1753551600@hbssc.ca
SUMMARY:Buffett Party
DESCRIPTION:Jayden Buffett
URL:https://hbssc.ca/event/buffett-party/
CATEGORIES:Multi-Purpose Function Room
END:VEVENT
BEGIN:VEVENT
DTSTART;TZID=America/Halifax:20250727T100000
DTEND;TZID=America/Halifax:20250727T105500
DTSTAMP:20260420T004732
CREATED:20250702T183521Z
LAST-MODIFIED:20250702T183521Z
UID:10019989-1753610400-1753613700@hbssc.ca
SUMMARY:Miller Full Field Bouncy Castles
DESCRIPTION:
URL:https://hbssc.ca/event/miller-full-field-bouncy-castles-2/
CATEGORIES:Playing Field
END:VEVENT
BEGIN:VEVENT
DTSTART;TZID=America/Halifax:20250727T110000
DTEND;TZID=America/Halifax:20250727T114500
DTSTAMP:20260420T004732
CREATED:20250702T183554Z
LAST-MODIFIED:20250702T183554Z
UID:10019990-1753614000-1753616700@hbssc.ca
SUMMARY:Miller Party Room
DESCRIPTION:
URL:https://hbssc.ca/event/miller-party-room/
CATEGORIES:Multi-Purpose Function Room
END:VEVENT
BEGIN:VEVENT
DTSTART;TZID=America/Halifax:20250727T110000
DTEND;TZID=America/Halifax:20250727T115500
DTSTAMP:20260420T004732
CREATED:20250623T183733Z
LAST-MODIFIED:20250711T123007Z
UID:10019895-1753614000-1753617300@hbssc.ca
SUMMARY:Reevf-Sheffiev 1/2 field bouncy castles
DESCRIPTION:Rebecca
URL:https://hbssc.ca/event/reevf-sheffiev-1-2-field-bouncy-castles/
CATEGORIES:Playing Field
END:VEVENT
BEGIN:VEVENT
DTSTART;TZID=America/Halifax:20250727T120000
DTEND;TZID=America/Halifax:20250727T124500
DTSTAMP:20260420T004732
CREATED:20250623T183917Z
LAST-MODIFIED:20250623T183917Z
UID:10019896-1753617600-1753620300@hbssc.ca
SUMMARY:Reevf-Sheffiev party room
DESCRIPTION:
URL:https://hbssc.ca/event/reevf-sheffiev-party-room/
CATEGORIES:Multi-Purpose Function Room
END:VEVENT
BEGIN:VEVENT
DTSTART;TZID=America/Halifax:20250727T121500
DTEND;TZID=America/Halifax:20250727T131500
DTSTAMP:20260420T004732
CREATED:20250717T152251Z
LAST-MODIFIED:20250717T152251Z
UID:10020540-1753618500-1753622100@hbssc.ca
SUMMARY:Nass Full Field Bouncy Castles
DESCRIPTION:
URL:https://hbssc.ca/event/nass-full-field-bouncy-castles/
CATEGORIES:Playing Field
END:VEVENT
BEGIN:VEVENT
DTSTART;TZID=America/Halifax:20250727T131500
DTEND;TZID=America/Halifax:20250727T140000
DTSTAMP:20260420T004732
CREATED:20250717T152447Z
LAST-MODIFIED:20250717T152447Z
UID:10020541-1753622100-1753624800@hbssc.ca
SUMMARY:Nass party (small meeting room)
DESCRIPTION:
URL:https://hbssc.ca/event/nass-party-small-meeting-room/
CATEGORIES:EastLink Community Room
END:VEVENT
BEGIN:VEVENT
DTSTART;TZID=America/Halifax:20250728T100000
DTEND;TZID=America/Halifax:20250728T133000
DTSTAMP:20260420T004733
CREATED:20250407T183902Z
LAST-MODIFIED:20250512T170848Z
UID:10018877-1753696800-1753709400@hbssc.ca
SUMMARY:Second Story
DESCRIPTION:
URL:https://hbssc.ca/event/second-story-3-5/
CATEGORIES:EastLink Community Room,Sensory Experience Room
END:VEVENT
BEGIN:VEVENT
DTSTART;TZID=America/Halifax:20250728T131500
DTEND;TZID=America/Halifax:20250728T134500
DTSTAMP:20260420T004733
CREATED:20250623T163430Z
LAST-MODIFIED:20250707T153212Z
UID:10020008-1753708500-1753710300@hbssc.ca
SUMMARY:South Shore Autism NS Camp
DESCRIPTION:Quinn
URL:https://hbssc.ca/event/south-shore-autism-ns-camp/
CATEGORIES:Playing Field,Sensory Experience Room,Sensory Magic room (room#2)
END:VEVENT
BEGIN:VEVENT
DTSTART;TZID=America/Halifax:20250728T131500
DTEND;TZID=America/Halifax:20250728T134500
DTSTAMP:20260420T004733
CREATED:20250707T153128Z
LAST-MODIFIED:20250707T153128Z
UID:10019893-1753708500-1753710300@hbssc.ca
SUMMARY:South Shore Autism NS Camp
DESCRIPTION:Quinn
URL:https://hbssc.ca/event/south-shore-autism-ns-camp-4/
CATEGORIES:Playing Field,Sensory Experience Room,Sensory Magic room (room#2)
END:VEVENT
BEGIN:VEVENT
DTSTART;TZID=America/Halifax:20250729T080000
DTEND;TZID=America/Halifax:20250729T160000
DTSTAMP:20260420T004733
CREATED:20250509T185044Z
LAST-MODIFIED:20250509T185044Z
UID:10019642-1753776000-1753804800@hbssc.ca
SUMMARY:St John Ambulance
DESCRIPTION:Tina Hussey
URL:https://hbssc.ca/event/st-john-ambulance-18/
CATEGORIES:Multi-Purpose Function Room
END:VEVENT
BEGIN:VEVENT
DTSTART;TZID=America/Halifax:20250729T100000
DTEND;TZID=America/Halifax:20250729T120000
DTSTAMP:20260420T004733
CREATED:20250729T141417Z
LAST-MODIFIED:20250729T141417Z
UID:10020594-1753783200-1753790400@hbssc.ca
SUMMARY:Cosmic Cheer
DESCRIPTION:1/4 field
URL:https://hbssc.ca/event/cosmic-cheer-15/
CATEGORIES:Playing Field
END:VEVENT
BEGIN:VEVENT
DTSTART;TZID=America/Halifax:20250729T110000
DTEND;TZID=America/Halifax:20250729T120000
DTSTAMP:20260420T004733
CREATED:20250625T154002Z
LAST-MODIFIED:20250625T154002Z
UID:10019916-1753786800-1753790400@hbssc.ca
SUMMARY:All Women over 55 Walking Soccer 1/2 field
DESCRIPTION:Jan
URL:https://hbssc.ca/event/all-women-over-55-walking-soccer-1-2-field/
CATEGORIES:Playing Field
END:VEVENT
BEGIN:VEVENT
DTSTART;TZID=America/Halifax:20250729T164500
DTEND;TZID=America/Halifax:20250729T184500
DTSTAMP:20260420T004733
CREATED:20250702T171214Z
LAST-MODIFIED:20250725T140639Z
UID:10019986-1753807500-1753814700@hbssc.ca
SUMMARY:Vashisht party room
DESCRIPTION:
URL:https://hbssc.ca/event/vashisht-party-room/
CATEGORIES:Multi-Purpose Function Room
END:VEVENT
BEGIN:VEVENT
DTSTART;TZID=America/Halifax:20250729T170000
DTEND;TZID=America/Halifax:20250729T175500
DTSTAMP:20260420T004733
CREATED:20250702T171126Z
LAST-MODIFIED:20250702T171126Z
UID:10019985-1753808400-1753811700@hbssc.ca
SUMMARY:Vashisht 1/2 field bouncy castles
DESCRIPTION:
URL:https://hbssc.ca/event/vashisht-1-2-field-bouncy-castles/
CATEGORIES:Playing Field
END:VEVENT
END:VCALENDAR