BEGIN:VCALENDAR
VERSION:2.0
PRODID:-//HB STUDIOS SPORTS CENTRE - ECPv6.15.17.1//NONSGML v1.0//EN
CALSCALE:GREGORIAN
METHOD:PUBLISH
X-WR-CALNAME:HB STUDIOS SPORTS CENTRE
X-ORIGINAL-URL:https://hbssc.ca
X-WR-CALDESC:Events for HB STUDIOS SPORTS CENTRE
REFRESH-INTERVAL;VALUE=DURATION:PT1H
X-Robots-Tag:noindex
X-PUBLISHED-TTL:PT1H
BEGIN:VTIMEZONE
TZID:America/Halifax
BEGIN:DAYLIGHT
TZOFFSETFROM:-0400
TZOFFSETTO:-0300
TZNAME:ADT
DTSTART:20290311T060000
END:DAYLIGHT
BEGIN:STANDARD
TZOFFSETFROM:-0300
TZOFFSETTO:-0400
TZNAME:AST
DTSTART:20291104T050000
END:STANDARD
BEGIN:DAYLIGHT
TZOFFSETFROM:-0400
TZOFFSETTO:-0300
TZNAME:ADT
DTSTART:20300310T060000
END:DAYLIGHT
BEGIN:STANDARD
TZOFFSETFROM:-0300
TZOFFSETTO:-0400
TZNAME:AST
DTSTART:20301103T050000
END:STANDARD
BEGIN:DAYLIGHT
TZOFFSETFROM:-0400
TZOFFSETTO:-0300
TZNAME:ADT
DTSTART:20310309T060000
END:DAYLIGHT
BEGIN:STANDARD
TZOFFSETFROM:-0300
TZOFFSETTO:-0400
TZNAME:AST
DTSTART:20311102T050000
END:STANDARD
END:VTIMEZONE
BEGIN:VEVENT
DTSTART;TZID=America/Halifax:20300426T100000
DTEND;TZID=America/Halifax:20300426T120000
DTSTAMP:20260422T192733
CREATED:20250725T132640Z
LAST-MODIFIED:20260408T163037Z
UID:10027564-1903428000-1903435200@hbssc.ca
SUMMARY:Keep on Track YMCA Program (OPEN TO EVERYONE)
DESCRIPTION:Sam Green
URL:https://hbssc.ca/event/keep-on-track-ymca-program-open-to-everyone/2030-04-26/
CATEGORIES:Exercise Track,Multi-Purpose Function Room
END:VEVENT
BEGIN:VEVENT
DTSTART;TZID=America/Halifax:20300502T110000
DTEND;TZID=America/Halifax:20300502T140000
DTSTAMP:20260422T192733
CREATED:20260402T160439Z
LAST-MODIFIED:20260402T160439Z
UID:10027413-1903950000-1903960800@hbssc.ca
SUMMARY:The Gathering Place
DESCRIPTION:
URL:https://hbssc.ca/event/the-gathering-place/2030-05-02/
CATEGORIES:Multi-Purpose Function Room,Sensory Experience Room,Sensory Magic room (room#2)
END:VEVENT
BEGIN:VEVENT
DTSTART;TZID=America/Halifax:20300507T183000
DTEND;TZID=America/Halifax:20300507T203000
DTSTAMP:20260422T192733
CREATED:20260407T222059Z
LAST-MODIFIED:20260408T122017Z
UID:10027485-1904409000-1904416200@hbssc.ca
SUMMARY:Bridgewater & Area Lions club
DESCRIPTION:
URL:https://hbssc.ca/event/bridgewater-area-lions-club/2030-05-07/
CATEGORIES:Multi-Purpose Function Room
END:VEVENT
END:VCALENDAR