BEGIN:VCALENDAR
VERSION:2.0
PRODID:-//HB STUDIOS SPORTS CENTRE - ECPv6.15.17.1//NONSGML v1.0//EN
CALSCALE:GREGORIAN
METHOD:PUBLISH
X-ORIGINAL-URL:https://hbssc.ca
X-WR-CALDESC:Events for HB STUDIOS SPORTS CENTRE
REFRESH-INTERVAL;VALUE=DURATION:PT1H
X-Robots-Tag:noindex
X-PUBLISHED-TTL:PT1H
BEGIN:VTIMEZONE
TZID:America/Halifax
BEGIN:DAYLIGHT
TZOFFSETFROM:-0400
TZOFFSETTO:-0300
TZNAME:ADT
DTSTART:20250309T060000
END:DAYLIGHT
BEGIN:STANDARD
TZOFFSETFROM:-0300
TZOFFSETTO:-0400
TZNAME:AST
DTSTART:20251102T050000
END:STANDARD
BEGIN:DAYLIGHT
TZOFFSETFROM:-0400
TZOFFSETTO:-0300
TZNAME:ADT
DTSTART:20260308T060000
END:DAYLIGHT
BEGIN:STANDARD
TZOFFSETFROM:-0300
TZOFFSETTO:-0400
TZNAME:AST
DTSTART:20261101T050000
END:STANDARD
BEGIN:DAYLIGHT
TZOFFSETFROM:-0400
TZOFFSETTO:-0300
TZNAME:ADT
DTSTART:20270314T060000
END:DAYLIGHT
BEGIN:STANDARD
TZOFFSETFROM:-0300
TZOFFSETTO:-0400
TZNAME:AST
DTSTART:20271107T050000
END:STANDARD
END:VTIMEZONE
BEGIN:VEVENT
DTSTART;TZID=America/Halifax:20260112T080000
DTEND;TZID=America/Halifax:20260112T170000
DTSTAMP:20260421T190241
CREATED:20260112T220723Z
LAST-MODIFIED:20260112T220723Z
UID:10021962-1768204800-1768237200@hbssc.ca
SUMMARY:SSUFC
DESCRIPTION:Peter Craig
URL:https://hbssc.ca/event/ssufc-10/2026-01-12/
CATEGORIES:Playing Field
END:VEVENT
BEGIN:VEVENT
DTSTART;TZID=America/Halifax:20260112T133000
DTEND;TZID=America/Halifax:20260112T143000
DTSTAMP:20260421T190241
CREATED:20260112T132035Z
LAST-MODIFIED:20260112T132035Z
UID:10021948-1768224600-1768228200@hbssc.ca
SUMMARY:QSC Bonny Lee
DESCRIPTION:
URL:https://hbssc.ca/event/qsc-bonny-lee/
CATEGORIES:Sensory Experience Room,Sensory Magic room (room#2)
END:VEVENT
BEGIN:VEVENT
DTSTART;TZID=America/Halifax:20260113T110000
DTEND;TZID=America/Halifax:20260113T120000
DTSTAMP:20260421T190241
CREATED:20251230T144536Z
LAST-MODIFIED:20251230T144536Z
UID:10021777-1768302000-1768305600@hbssc.ca
SUMMARY:+55 Women's Walking Soccer
DESCRIPTION:
URL:https://hbssc.ca/event/55-womens-walking-soccer-2/
CATEGORIES:Playing Field
END:VEVENT
BEGIN:VEVENT
DTSTART;TZID=America/Halifax:20260113T170000
DTEND;TZID=America/Halifax:20260113T210000
DTSTAMP:20260421T190241
CREATED:20260113T195246Z
LAST-MODIFIED:20260113T195342Z
UID:10022027-1768323600-1768338000@hbssc.ca
SUMMARY:SSUFC
DESCRIPTION:Peter Craig
URL:https://hbssc.ca/event/ssufc-11/
CATEGORIES:Playing Field
END:VEVENT
BEGIN:VEVENT
DTSTART;TZID=America/Halifax:20260114T133000
DTEND;TZID=America/Halifax:20260114T143000
DTSTAMP:20260421T190241
CREATED:20260112T183339Z
LAST-MODIFIED:20260112T183339Z
UID:10021951-1768397400-1768401000@hbssc.ca
SUMMARY:M. Black Full Field
DESCRIPTION:Jordan
URL:https://hbssc.ca/event/m-black-full-field/2026-01-14/
CATEGORIES:Playing Field
END:VEVENT
BEGIN:VEVENT
DTSTART;TZID=America/Halifax:20260114T160000
DTEND;TZID=America/Halifax:20260114T173000
DTSTAMP:20260421T190241
CREATED:20260108T224458Z
LAST-MODIFIED:20260108T224458Z
UID:10021863-1768406400-1768411800@hbssc.ca
SUMMARY:SSUFC
DESCRIPTION:Peter Craig
URL:https://hbssc.ca/event/ssufc-9/2026-01-14/
CATEGORIES:Playing Field
END:VEVENT
BEGIN:VEVENT
DTSTART;TZID=America/Halifax:20260115T110000
DTEND;TZID=America/Halifax:20260115T120000
DTSTAMP:20260421T190241
CREATED:20260114T181019Z
LAST-MODIFIED:20260114T181019Z
UID:10022100-1768474800-1768478400@hbssc.ca
SUMMARY:MLCC S Conrad (1/2 field only)
DESCRIPTION:Sherrene Conrad
URL:https://hbssc.ca/event/mlcc-s-conrad-1-2-field-only/2026-01-15/
CATEGORIES:Playing Field
END:VEVENT
BEGIN:VEVENT
DTSTART;TZID=America/Halifax:20260115T183000
DTEND;TZID=America/Halifax:20260115T193000
DTSTAMP:20260421T190241
CREATED:20260114T225510Z
LAST-MODIFIED:20260114T225510Z
UID:10022133-1768501800-1768505400@hbssc.ca
SUMMARY:Batting Cage
DESCRIPTION:Bridgewater Baseball
URL:https://hbssc.ca/event/batting-cage-4/
CATEGORIES:Batting Cage
END:VEVENT
BEGIN:VEVENT
DTSTART;TZID=America/Halifax:20260115T190000
DTEND;TZID=America/Halifax:20260115T200000
DTSTAMP:20260421T190241
CREATED:20260105T184421Z
LAST-MODIFIED:20260105T184421Z
UID:10021801-1768503600-1768507200@hbssc.ca
SUMMARY:Lahave River Salmon Association
DESCRIPTION:Eva Devine
URL:https://hbssc.ca/event/lahave-river-salmon-association/
CATEGORIES:Multi-Purpose Function Room
END:VEVENT
BEGIN:VEVENT
DTSTART;TZID=America/Halifax:20260117T100000
DTEND;TZID=America/Halifax:20260117T120000
DTSTAMP:20260421T190241
CREATED:20260113T185044Z
LAST-MODIFIED:20260114T140140Z
UID:10021995-1768644000-1768651200@hbssc.ca
SUMMARY:Anahata School of Dance
DESCRIPTION:Ansu Sebastian Varghese
URL:https://hbssc.ca/event/anahata-school-of-dance-2/2026-01-17/
CATEGORIES:Multi-Purpose Function Room
END:VEVENT
BEGIN:VEVENT
DTSTART;TZID=America/Halifax:20260117T130000
DTEND;TZID=America/Halifax:20260117T135500
DTSTAMP:20260421T190241
CREATED:20251009T134535Z
LAST-MODIFIED:20251009T134753Z
UID:10021291-1768654800-1768658100@hbssc.ca
SUMMARY:Mackenzie Full Field Bouncy
DESCRIPTION:Jenna
URL:https://hbssc.ca/event/mackenzie-full-field-bouncy/
CATEGORIES:Playing Field
END:VEVENT
BEGIN:VEVENT
DTSTART;TZID=America/Halifax:20260117T135500
DTEND;TZID=America/Halifax:20260117T144000
DTSTAMP:20260421T190241
CREATED:20251009T134618Z
LAST-MODIFIED:20251009T134859Z
UID:10021292-1768658100-1768660800@hbssc.ca
SUMMARY:Mackenzie Party
DESCRIPTION:Jenna
URL:https://hbssc.ca/event/mackenzie-party-6/
CATEGORIES:Multi-Purpose Function Room
END:VEVENT
BEGIN:VEVENT
DTSTART;TZID=America/Halifax:20260117T140000
DTEND;TZID=America/Halifax:20260117T145500
DTSTAMP:20260421T190241
CREATED:20250714T202653Z
LAST-MODIFIED:20250714T202653Z
UID:10020538-1768658400-1768661700@hbssc.ca
SUMMARY:Higgon - Half Field Bouncy
DESCRIPTION:Elizabeth H
URL:https://hbssc.ca/event/higgon-half-field-bouncy/
CATEGORIES:Playing Field
END:VEVENT
BEGIN:VEVENT
DTSTART;TZID=America/Halifax:20260117T145500
DTEND;TZID=America/Halifax:20260117T154000
DTSTAMP:20260421T190241
CREATED:20250714T202730Z
LAST-MODIFIED:20250714T202730Z
UID:10020539-1768661700-1768664400@hbssc.ca
SUMMARY:Higgon Party
DESCRIPTION:Elizabeth Higgon
URL:https://hbssc.ca/event/higgon-party/
CATEGORIES:Multi-Purpose Function Room
END:VEVENT
BEGIN:VEVENT
DTSTART;TZID=America/Halifax:20260118T130000
DTEND;TZID=America/Halifax:20260118T140000
DTSTAMP:20260421T190241
CREATED:20251209T172608Z
LAST-MODIFIED:20251209T173514Z
UID:10021724-1768741200-1768744800@hbssc.ca
SUMMARY:Fralic Full Field Bouncy
DESCRIPTION:Amber
URL:https://hbssc.ca/event/fralic-full-field-bouncy/
CATEGORIES:Playing Field
END:VEVENT
BEGIN:VEVENT
DTSTART;TZID=America/Halifax:20260118T135500
DTEND;TZID=America/Halifax:20260118T144000
DTSTAMP:20260421T190241
CREATED:20251209T172651Z
LAST-MODIFIED:20251209T172651Z
UID:10021725-1768744500-1768747200@hbssc.ca
SUMMARY:Fralic Party
DESCRIPTION:Amber
URL:https://hbssc.ca/event/fralic-party-2/
CATEGORIES:Multi-Purpose Function Room
END:VEVENT
BEGIN:VEVENT
DTSTART;TZID=America/Halifax:20260118T203000
DTEND;TZID=America/Halifax:20260118T213000
DTSTAMP:20260421T190241
CREATED:20260118T233227Z
LAST-MODIFIED:20260118T233345Z
UID:10022831-1768768200-1768771800@hbssc.ca
SUMMARY:Jerin soccer
DESCRIPTION:
URL:https://hbssc.ca/event/jerin-soccer-5/
CATEGORIES:Playing Field
END:VEVENT
BEGIN:VEVENT
DTSTART;TZID=America/Halifax:20260120T180000
DTEND;TZID=America/Halifax:20260120T190000
DTSTAMP:20260421T190241
CREATED:20260118T213240Z
LAST-MODIFIED:20260118T213240Z
UID:10022825-1768932000-1768935600@hbssc.ca
SUMMARY:ASP sprint track rental
DESCRIPTION:Vince Lucente
URL:https://hbssc.ca/event/asp-sprint-track-rental/2026-01-20/
CATEGORIES:Sprint Track
END:VEVENT
BEGIN:VEVENT
DTSTART;TZID=America/Halifax:20260120T180000
DTEND;TZID=America/Halifax:20260120T200000
DTSTAMP:20260421T190241
CREATED:20260118T211946Z
LAST-MODIFIED:20260118T212609Z
UID:10022824-1768932000-1768939200@hbssc.ca
SUMMARY:Bridgewater & Area Lions Club
DESCRIPTION:Community room 6-8pm
URL:https://hbssc.ca/event/bridgewater-area-lions-club-4/
CATEGORIES:EastLink Community Room
END:VEVENT
BEGIN:VEVENT
DTSTART;TZID=America/Halifax:20260121T130000
DTEND;TZID=America/Halifax:20260121T150000
DTSTAMP:20260421T190241
CREATED:20260313T175401Z
LAST-MODIFIED:20260408T174452Z
UID:10027576-1769000400-1769007600@hbssc.ca
SUMMARY:LC Wheels
DESCRIPTION:Jerome Tanner
URL:https://hbssc.ca/event/lc-wheels-9/2026-01-21/
CATEGORIES:Multi-Purpose Function Room
END:VEVENT
BEGIN:VEVENT
DTSTART;TZID=America/Halifax:20260124T100000
DTEND;TZID=America/Halifax:20260124T120000
DTSTAMP:20260421T190241
CREATED:20260214T204122Z
LAST-MODIFIED:20260214T204122Z
UID:10026304-1769248800-1769256000@hbssc.ca
SUMMARY:Anahata School of Dance
DESCRIPTION:Ansu Sebastian Varghese
URL:https://hbssc.ca/event/anahata-school-of-dance-5/
CATEGORIES:Blue Matted Fitness Zone
END:VEVENT
BEGIN:VEVENT
DTSTART;TZID=America/Halifax:20260124T100000
DTEND;TZID=America/Halifax:20260124T120000
DTSTAMP:20260421T190241
CREATED:20260214T204125Z
LAST-MODIFIED:20260214T204125Z
UID:10026305-1769248800-1769256000@hbssc.ca
SUMMARY:Anahata School of Dance
DESCRIPTION:Ansu Sebastian Varghese
URL:https://hbssc.ca/event/anahata-school-of-dance-6/
CATEGORIES:Blue Matted Fitness Zone
END:VEVENT
BEGIN:VEVENT
DTSTART;TZID=America/Halifax:20260124T100000
DTEND;TZID=America/Halifax:20260124T120000
DTSTAMP:20260421T190241
CREATED:20260214T204128Z
LAST-MODIFIED:20260214T204128Z
UID:10026306-1769248800-1769256000@hbssc.ca
SUMMARY:Anahata School of Dance
DESCRIPTION:Ansu Sebastian Varghese
URL:https://hbssc.ca/event/anahata-school-of-dance-7/
CATEGORIES:Blue Matted Fitness Zone
END:VEVENT
BEGIN:VEVENT
DTSTART;TZID=America/Halifax:20260124T100000
DTEND;TZID=America/Halifax:20260124T120000
DTSTAMP:20260421T190241
CREATED:20260214T204129Z
LAST-MODIFIED:20260214T204129Z
UID:10026307-1769248800-1769256000@hbssc.ca
SUMMARY:Anahata School of Dance
DESCRIPTION:Ansu Sebastian Varghese
URL:https://hbssc.ca/event/anahata-school-of-dance-8/
CATEGORIES:Blue Matted Fitness Zone
END:VEVENT
BEGIN:VEVENT
DTSTART;TZID=America/Halifax:20260124T123000
DTEND;TZID=America/Halifax:20260124T133000
DTSTAMP:20260421T190241
CREATED:20251023T143559Z
LAST-MODIFIED:20251023T143559Z
UID:10021440-1769257800-1769261400@hbssc.ca
SUMMARY:Eyre 1/2 field bouncy castle Party
DESCRIPTION:Vanessa
URL:https://hbssc.ca/event/eyre-1-2-field-bouncy-castle-party-2/
CATEGORIES:Playing Field
END:VEVENT
BEGIN:VEVENT
DTSTART;TZID=America/Halifax:20260124T133000
DTEND;TZID=America/Halifax:20260124T143000
DTSTAMP:20260421T190241
CREATED:20251023T143641Z
LAST-MODIFIED:20251023T143738Z
UID:10021441-1769261400-1769265000@hbssc.ca
SUMMARY:Eyre Party
DESCRIPTION:Vanessa
URL:https://hbssc.ca/event/eyre-party-3/
CATEGORIES:EastLink Community Room
END:VEVENT
BEGIN:VEVENT
DTSTART;TZID=America/Halifax:20260125T140000
DTEND;TZID=America/Halifax:20260125T150000
DTSTAMP:20260421T190241
CREATED:20250829T115507Z
LAST-MODIFIED:20250829T115507Z
UID:10020880-1769349600-1769353200@hbssc.ca
SUMMARY:Foran Full Field Bouncy Castle Party
DESCRIPTION:Christina Foran
URL:https://hbssc.ca/event/foran-full-field-bouncy-castle-party-2/
CATEGORIES:Playing Field
END:VEVENT
BEGIN:VEVENT
DTSTART;TZID=America/Halifax:20260125T150000
DTEND;TZID=America/Halifax:20260125T160000
DTSTAMP:20260421T190241
CREATED:20250829T115538Z
LAST-MODIFIED:20250829T115538Z
UID:10020881-1769353200-1769356800@hbssc.ca
SUMMARY:Foran Party
DESCRIPTION:Christina
URL:https://hbssc.ca/event/foran-party-4/
CATEGORIES:Multi-Purpose Function Room
END:VEVENT
BEGIN:VEVENT
DTSTART;TZID=America/Halifax:20260127T080000
DTEND;TZID=America/Halifax:20260127T170000
DTSTAMP:20260421T190241
CREATED:20251002T173934Z
LAST-MODIFIED:20251002T173934Z
UID:10021259-1769500800-1769533200@hbssc.ca
SUMMARY:Soul Provider
DESCRIPTION:Natalie
URL:https://hbssc.ca/event/soul-provider-2/
CATEGORIES:EastLink Community Room
END:VEVENT
BEGIN:VEVENT
DTSTART;TZID=America/Halifax:20260127T140000
DTEND;TZID=America/Halifax:20260127T150000
DTSTAMP:20260421T190241
CREATED:20260127T170005Z
LAST-MODIFIED:20260127T170005Z
UID:10023989-1769522400-1769526000@hbssc.ca
SUMMARY:1/4 Field Mason
DESCRIPTION:Julie
URL:https://hbssc.ca/event/1-4-field-mason/
CATEGORIES:Playing Field
END:VEVENT
END:VCALENDAR