BEGIN:VCALENDAR
VERSION:2.0
PRODID:-//HB STUDIOS SPORTS CENTRE - ECPv6.15.17.1//NONSGML v1.0//EN
CALSCALE:GREGORIAN
METHOD:PUBLISH
X-WR-CALNAME:HB STUDIOS SPORTS CENTRE
X-ORIGINAL-URL:https://hbssc.ca
X-WR-CALDESC:Events for HB STUDIOS SPORTS CENTRE
REFRESH-INTERVAL;VALUE=DURATION:PT1H
X-Robots-Tag:noindex
X-PUBLISHED-TTL:PT1H
BEGIN:VTIMEZONE
TZID:America/Halifax
BEGIN:DAYLIGHT
TZOFFSETFROM:-0400
TZOFFSETTO:-0300
TZNAME:ADT
DTSTART:20250309T060000
END:DAYLIGHT
BEGIN:STANDARD
TZOFFSETFROM:-0300
TZOFFSETTO:-0400
TZNAME:AST
DTSTART:20251102T050000
END:STANDARD
BEGIN:DAYLIGHT
TZOFFSETFROM:-0400
TZOFFSETTO:-0300
TZNAME:ADT
DTSTART:20260308T060000
END:DAYLIGHT
BEGIN:STANDARD
TZOFFSETFROM:-0300
TZOFFSETTO:-0400
TZNAME:AST
DTSTART:20261101T050000
END:STANDARD
BEGIN:DAYLIGHT
TZOFFSETFROM:-0400
TZOFFSETTO:-0300
TZNAME:ADT
DTSTART:20270314T060000
END:DAYLIGHT
BEGIN:STANDARD
TZOFFSETFROM:-0300
TZOFFSETTO:-0400
TZNAME:AST
DTSTART:20271107T050000
END:STANDARD
END:VTIMEZONE
BEGIN:VEVENT
DTSTART;TZID=America/Halifax:20260209T164500
DTEND;TZID=America/Halifax:20260209T174500
DTSTAMP:20260421T232347
CREATED:20260206T150818Z
LAST-MODIFIED:20260206T150915Z
UID:10024694-1770655500-1770659100@hbssc.ca
SUMMARY:SSUFC meeting room
DESCRIPTION:Sarah Taylor
URL:https://hbssc.ca/event/ssufc-meeting-room-20/2026-02-09/
CATEGORIES:Multi-Purpose Function Room
END:VEVENT
BEGIN:VEVENT
DTSTART;TZID=America/Halifax:20260209T190000
DTEND;TZID=America/Halifax:20260209T210000
DTSTAMP:20260421T232347
CREATED:20250904T214317Z
LAST-MODIFIED:20250904T214317Z
UID:10020954-1770663600-1770670800@hbssc.ca
SUMMARY:Coastal Cruisers - meeting room
DESCRIPTION:Jared Ernst
URL:https://hbssc.ca/event/coastal-cruisers-meeting-room-3/
CATEGORIES:Multi-Purpose Function Room
END:VEVENT
BEGIN:VEVENT
DTSTART;TZID=America/Halifax:20260210T100000
DTEND;TZID=America/Halifax:20260210T110000
DTSTAMP:20260421T232347
CREATED:20260109T192206Z
LAST-MODIFIED:20260109T192206Z
UID:10021872-1770717600-1770721200@hbssc.ca
SUMMARY:QCS Fenwood J. McIntosh
DESCRIPTION:Lorelei Mason
URL:https://hbssc.ca/event/qcs-fenwood-j-mcintosh/2026-02-10/
CATEGORIES:Sensory Experience Room
END:VEVENT
BEGIN:VEVENT
DTSTART;TZID=America/Halifax:20260210T110000
DTEND;TZID=America/Halifax:20260210T120000
DTSTAMP:20260421T232347
CREATED:20251230T144727Z
LAST-MODIFIED:20251230T144727Z
UID:10021779-1770721200-1770724800@hbssc.ca
SUMMARY:+55 Women's Walking Soccer
DESCRIPTION:
URL:https://hbssc.ca/event/55-womens-walking-soccer-4/
CATEGORIES:Playing Field
END:VEVENT
BEGIN:VEVENT
DTSTART;TZID=America/Halifax:20260210T160000
DTEND;TZID=America/Halifax:20260210T170000
DTSTAMP:20260421T232347
CREATED:20260207T152824Z
LAST-MODIFIED:20260207T152826Z
UID:10020130-1770739200-1770742800@hbssc.ca
SUMMARY:PVEC Rugby
DESCRIPTION:Andrew Dixon 3/4 field from 4:00-4:30PM
URL:https://hbssc.ca/event/pvec-rugby-32-2/
CATEGORIES:Playing Field
END:VEVENT
BEGIN:VEVENT
DTSTART;TZID=America/Halifax:20260211T080000
DTEND;TZID=America/Halifax:20260211T170000
DTSTAMP:20260421T232347
CREATED:20260211T172227Z
LAST-MODIFIED:20260211T172227Z
UID:10025480-1770796800-1770829200@hbssc.ca
SUMMARY:CLOSED AT 1PM DUE TO Storm
DESCRIPTION:
URL:https://hbssc.ca/event/closed-at-1pm-due-to-storm/
END:VEVENT
BEGIN:VEVENT
DTSTART;TZID=America/Halifax:20260211T080000
DTEND;TZID=America/Halifax:20260211T170000
DTSTAMP:20260421T232347
CREATED:20260211T172402Z
LAST-MODIFIED:20260211T172402Z
UID:10025481-1770796800-1770829200@hbssc.ca
SUMMARY:DELAYED OPENING 11:00AM
DESCRIPTION:
URL:https://hbssc.ca/event/delayed-opening-1100am/
END:VEVENT
BEGIN:VEVENT
DTSTART;TZID=America/Halifax:20260211T140000
DTEND;TZID=America/Halifax:20260211T150000
DTSTAMP:20260421T232347
CREATED:20251216T172210Z
LAST-MODIFIED:20251216T172241Z
UID:10021757-1770818400-1770822000@hbssc.ca
SUMMARY:Michelle Silver
DESCRIPTION:Michelle Silver
URL:https://hbssc.ca/event/wellness/2026-02-11/
CATEGORIES:Multi-Purpose Function Room
END:VEVENT
BEGIN:VEVENT
DTSTART;TZID=America/Halifax:20260212T110000
DTEND;TZID=America/Halifax:20260212T130000
DTSTAMP:20260421T232347
CREATED:20260202T152940Z
LAST-MODIFIED:20260202T152940Z
UID:10024117-1770894000-1770901200@hbssc.ca
SUMMARY:SSFS Committee Meeting
DESCRIPTION:
URL:https://hbssc.ca/event/ssfs-committee-meeting-4/
CATEGORIES:Multi-Purpose Function Room
END:VEVENT
BEGIN:VEVENT
DTSTART;TZID=America/Halifax:20260212T160000
DTEND;TZID=America/Halifax:20260212T170000
DTSTAMP:20260421T232347
CREATED:20260207T153242Z
LAST-MODIFIED:20260207T153244Z
UID:10021231-1770912000-1770915600@hbssc.ca
SUMMARY:PVEC Rugby
DESCRIPTION:Andrew Dixon/ Cameron Strong
URL:https://hbssc.ca/event/pvec-rugby-33-2/
CATEGORIES:Playing Field
END:VEVENT
BEGIN:VEVENT
DTSTART;TZID=America/Halifax:20260212T160000
DTEND;TZID=America/Halifax:20260212T170000
DTSTAMP:20260421T232347
CREATED:20260207T204149Z
LAST-MODIFIED:20260212T135425Z
UID:10024744-1770912000-1770915600@hbssc.ca
SUMMARY:Special Olympics
DESCRIPTION:Darlene Broome
URL:https://hbssc.ca/event/special-olympics-eastlink-community-room/
CATEGORIES:Multi-Purpose Function Room
END:VEVENT
BEGIN:VEVENT
DTSTART;VALUE=DATE:20260213
DTEND;VALUE=DATE:20260214
DTSTAMP:20260421T232347
CREATED:20250708T171347Z
LAST-MODIFIED:20250708T171347Z
UID:10020025-1770940800-1771027199@hbssc.ca
SUMMARY:SSUFC Annual South Shore Soccer Symposium
DESCRIPTION:
URL:https://hbssc.ca/event/ssufc-annual-south-shore-soccer-symposium/
CATEGORIES:EastLink Community Room,Multi-Purpose Function Room,Playing Field,Sprint Track
END:VEVENT
BEGIN:VEVENT
DTSTART;VALUE=DATE:20260214
DTEND;VALUE=DATE:20260215
DTSTAMP:20260421T232347
CREATED:20250708T171416Z
LAST-MODIFIED:20250708T171416Z
UID:10020026-1771027200-1771113599@hbssc.ca
SUMMARY:SSUFC Annual South Shore Soccer Symposium
DESCRIPTION:
URL:https://hbssc.ca/event/ssufc-annual-south-shore-soccer-symposium-2/
CATEGORIES:EastLink Community Room,Multi-Purpose Function Room,Playing Field,Sprint Track
END:VEVENT
BEGIN:VEVENT
DTSTART;VALUE=DATE:20260215
DTEND;VALUE=DATE:20260216
DTSTAMP:20260421T232347
CREATED:20250708T171501Z
LAST-MODIFIED:20250708T171501Z
UID:10020027-1771113600-1771199999@hbssc.ca
SUMMARY:SSUFC Annual South Shore Soccer Symposium
DESCRIPTION:
URL:https://hbssc.ca/event/ssufc-annual-south-shore-soccer-symposium-3/
CATEGORIES:EastLink Community Room,Multi-Purpose Function Room,Playing Field,Sprint Track
END:VEVENT
BEGIN:VEVENT
DTSTART;TZID=America/Halifax:20260215T193000
DTEND;TZID=America/Halifax:20260215T203000
DTSTAMP:20260421T232347
CREATED:20260215T135654Z
LAST-MODIFIED:20260215T135654Z
UID:10026308-1771183800-1771187400@hbssc.ca
SUMMARY:Soccer
DESCRIPTION:
URL:https://hbssc.ca/event/soccer/
CATEGORIES:Playing Field
END:VEVENT
BEGIN:VEVENT
DTSTART;VALUE=DATE:20260216
DTEND;VALUE=DATE:20260217
DTSTAMP:20260421T232347
CREATED:20250708T171902Z
LAST-MODIFIED:20250708T171902Z
UID:10020028-1771200000-1771286399@hbssc.ca
SUMMARY:CLOSED
DESCRIPTION:
URL:https://hbssc.ca/event/closed-9/
END:VEVENT
BEGIN:VEVENT
DTSTART;TZID=America/Halifax:20260216T120000
DTEND;TZID=America/Halifax:20260216T125500
DTSTAMP:20260421T232347
CREATED:20260110T185526Z
LAST-MODIFIED:20260112T151810Z
UID:10021880-1771243200-1771246500@hbssc.ca
SUMMARY:Herrera Full field bouncy
DESCRIPTION:Maria Herrera
URL:https://hbssc.ca/event/herrera-1-2-field-bouncy/
CATEGORIES:Playing Field
END:VEVENT
BEGIN:VEVENT
DTSTART;TZID=America/Halifax:20260216T125500
DTEND;TZID=America/Halifax:20260216T134000
DTSTAMP:20260421T232347
CREATED:20260110T185814Z
LAST-MODIFIED:20260110T185814Z
UID:10021881-1771246500-1771249200@hbssc.ca
SUMMARY:Herrera Party
DESCRIPTION:
URL:https://hbssc.ca/event/herrera-party/
CATEGORIES:Multi-Purpose Function Room
END:VEVENT
BEGIN:VEVENT
DTSTART;TZID=America/Halifax:20260216T133000
DTEND;TZID=America/Halifax:20260216T143000
DTSTAMP:20260421T232347
CREATED:20260211T130605Z
LAST-MODIFIED:20260211T130605Z
UID:10025476-1771248600-1771252200@hbssc.ca
SUMMARY:Dunlop Full Field Bouncy Castle Party
DESCRIPTION:Kimberley
URL:https://hbssc.ca/event/dunlop-full-field-bouncy-castle-party/
CATEGORIES:Playing Field
END:VEVENT
BEGIN:VEVENT
DTSTART;TZID=America/Halifax:20260216T143000
DTEND;TZID=America/Halifax:20260216T153000
DTSTAMP:20260421T232347
CREATED:20260211T130651Z
LAST-MODIFIED:20260211T130651Z
UID:10025477-1771252200-1771255800@hbssc.ca
SUMMARY:Dunlop Party
DESCRIPTION:KImberley
URL:https://hbssc.ca/event/dunlop-party/
CATEGORIES:Multi-Purpose Function Room
END:VEVENT
BEGIN:VEVENT
DTSTART;TZID=America/Halifax:20260216T150000
DTEND;TZID=America/Halifax:20260216T160000
DTSTAMP:20260421T232347
CREATED:20260105T185056Z
LAST-MODIFIED:20260105T185056Z
UID:10021802-1771254000-1771257600@hbssc.ca
SUMMARY:Nickerson 1/2 field bouncy castle  & 1/2 field laser tag party
DESCRIPTION:Evangeline Nickerson
URL:https://hbssc.ca/event/nickerson-1-2-field-bouncy-castle-1-2-field-laser-tag-party/
CATEGORIES:Playing Field
END:VEVENT
BEGIN:VEVENT
DTSTART;TZID=America/Halifax:20260216T160000
DTEND;TZID=America/Halifax:20260216T170000
DTSTAMP:20260421T232347
CREATED:20260105T185616Z
LAST-MODIFIED:20260105T185616Z
UID:10021803-1771257600-1771261200@hbssc.ca
SUMMARY:Nickerson Meeting Room
DESCRIPTION:Evangeline
URL:https://hbssc.ca/event/nickerson-meeting-room/
CATEGORIES:Multi-Purpose Function Room
END:VEVENT
BEGIN:VEVENT
DTSTART;TZID=America/Halifax:20260216T190000
DTEND;TZID=America/Halifax:20260216T203000
DTSTAMP:20260421T232347
CREATED:20260213T184247Z
LAST-MODIFIED:20260226T195127Z
UID:10026291-1771268400-1771273800@hbssc.ca
SUMMARY:R Taylor Battling Cage
DESCRIPTION:Rex
URL:https://hbssc.ca/event/r-taylor-battling-cage/2026-02-16/
CATEGORIES:Sprint Track
END:VEVENT
BEGIN:VEVENT
DTSTART;TZID=America/Halifax:20260217T133000
DTEND;TZID=America/Halifax:20260217T143000
DTSTAMP:20260421T232347
CREATED:20260217T153826Z
LAST-MODIFIED:20260217T153856Z
UID:10026484-1771335000-1771338600@hbssc.ca
SUMMARY:Bonny Lea Farm - Track & Sensory Room
DESCRIPTION:
URL:https://hbssc.ca/event/bonny-lea-farm-sensory-room/
CATEGORIES:Sensory Experience Room
END:VEVENT
BEGIN:VEVENT
DTSTART;TZID=America/Halifax:20260217T170000
DTEND;TZID=America/Halifax:20260217T180000
DTSTAMP:20260421T232348
CREATED:20260217T150639Z
LAST-MODIFIED:20260217T150639Z
UID:10026482-1771347600-1771351200@hbssc.ca
SUMMARY:Issac Riis sprint track
DESCRIPTION:
URL:https://hbssc.ca/event/issac-riis-sprint-track/
CATEGORIES:Sprint Track
END:VEVENT
BEGIN:VEVENT
DTSTART;TZID=America/Halifax:20260219T140000
DTEND;TZID=America/Halifax:20260219T150000
DTSTAMP:20260421T232348
CREATED:20260203T195614Z
LAST-MODIFIED:20260203T195614Z
UID:10024677-1771509600-1771513200@hbssc.ca
SUMMARY:Balsam Care Sensory
DESCRIPTION:Felicia \n 
URL:https://hbssc.ca/event/balsam-care-sensory/2026-02-19/
CATEGORIES:Sensory Experience Room
END:VEVENT
BEGIN:VEVENT
DTSTART;TZID=America/Halifax:20260221T123000
DTEND;TZID=America/Halifax:20260221T133000
DTSTAMP:20260421T232348
CREATED:20251209T180151Z
LAST-MODIFIED:20260103T124402Z
UID:10021726-1771677000-1771680600@hbssc.ca
SUMMARY:Jay Hatt Bouncy Party
DESCRIPTION:
URL:https://hbssc.ca/event/jay-hatt-bouncy-castle-party/
CATEGORIES:Playing Field
END:VEVENT
BEGIN:VEVENT
DTSTART;TZID=America/Halifax:20260221T133000
DTEND;TZID=America/Halifax:20260221T141500
DTSTAMP:20260421T232348
CREATED:20251209T180938Z
LAST-MODIFIED:20251209T181504Z
UID:10021727-1771680600-1771683300@hbssc.ca
SUMMARY:Jay Hatt
DESCRIPTION:
URL:https://hbssc.ca/event/jay-hatt/
CATEGORIES:Multi-Purpose Function Room
END:VEVENT
BEGIN:VEVENT
DTSTART;TZID=America/Halifax:20260221T143000
DTEND;TZID=America/Halifax:20260221T152500
DTSTAMP:20260421T232348
CREATED:20251229T162519Z
LAST-MODIFIED:20251229T162519Z
UID:10021773-1771684200-1771687500@hbssc.ca
SUMMARY:Druzina 1/2 Field Bouncy Castles
DESCRIPTION:Alli
URL:https://hbssc.ca/event/druzina-1-2-field-bouncy-castles/
CATEGORIES:Playing Field
END:VEVENT
BEGIN:VEVENT
DTSTART;TZID=America/Halifax:20260221T152500
DTEND;TZID=America/Halifax:20260221T161500
DTSTAMP:20260421T232348
CREATED:20251229T162621Z
LAST-MODIFIED:20251229T162621Z
UID:10021774-1771687500-1771690500@hbssc.ca
SUMMARY:Druzina Party Room
DESCRIPTION:Alli
URL:https://hbssc.ca/event/druzina-party-room/
CATEGORIES:Multi-Purpose Function Room
END:VEVENT
END:VCALENDAR