BEGIN:VCALENDAR
VERSION:2.0
PRODID:-//HB STUDIOS SPORTS CENTRE - ECPv6.15.17.1//NONSGML v1.0//EN
CALSCALE:GREGORIAN
METHOD:PUBLISH
X-ORIGINAL-URL:https://hbssc.ca
X-WR-CALDESC:Events for HB STUDIOS SPORTS CENTRE
REFRESH-INTERVAL;VALUE=DURATION:PT1H
X-Robots-Tag:noindex
X-PUBLISHED-TTL:PT1H
BEGIN:VTIMEZONE
TZID:America/Halifax
BEGIN:DAYLIGHT
TZOFFSETFROM:-0400
TZOFFSETTO:-0300
TZNAME:ADT
DTSTART:20250309T060000
END:DAYLIGHT
BEGIN:STANDARD
TZOFFSETFROM:-0300
TZOFFSETTO:-0400
TZNAME:AST
DTSTART:20251102T050000
END:STANDARD
BEGIN:DAYLIGHT
TZOFFSETFROM:-0400
TZOFFSETTO:-0300
TZNAME:ADT
DTSTART:20260308T060000
END:DAYLIGHT
BEGIN:STANDARD
TZOFFSETFROM:-0300
TZOFFSETTO:-0400
TZNAME:AST
DTSTART:20261101T050000
END:STANDARD
BEGIN:DAYLIGHT
TZOFFSETFROM:-0400
TZOFFSETTO:-0300
TZNAME:ADT
DTSTART:20270314T060000
END:DAYLIGHT
BEGIN:STANDARD
TZOFFSETFROM:-0300
TZOFFSETTO:-0400
TZNAME:AST
DTSTART:20271107T050000
END:STANDARD
END:VTIMEZONE
BEGIN:VEVENT
DTSTART;TZID=America/Halifax:20260216T150000
DTEND;TZID=America/Halifax:20260216T160000
DTSTAMP:20260422T010340
CREATED:20260105T185056Z
LAST-MODIFIED:20260105T185056Z
UID:10021802-1771254000-1771257600@hbssc.ca
SUMMARY:Nickerson 1/2 field bouncy castle  & 1/2 field laser tag party
DESCRIPTION:Evangeline Nickerson
URL:https://hbssc.ca/event/nickerson-1-2-field-bouncy-castle-1-2-field-laser-tag-party/
CATEGORIES:Playing Field
END:VEVENT
BEGIN:VEVENT
DTSTART;TZID=America/Halifax:20260216T160000
DTEND;TZID=America/Halifax:20260216T170000
DTSTAMP:20260422T010340
CREATED:20260105T185616Z
LAST-MODIFIED:20260105T185616Z
UID:10021803-1771257600-1771261200@hbssc.ca
SUMMARY:Nickerson Meeting Room
DESCRIPTION:Evangeline
URL:https://hbssc.ca/event/nickerson-meeting-room/
CATEGORIES:Multi-Purpose Function Room
END:VEVENT
BEGIN:VEVENT
DTSTART;TZID=America/Halifax:20260216T190000
DTEND;TZID=America/Halifax:20260216T203000
DTSTAMP:20260422T010340
CREATED:20260213T184247Z
LAST-MODIFIED:20260226T195127Z
UID:10026291-1771268400-1771273800@hbssc.ca
SUMMARY:R Taylor Battling Cage
DESCRIPTION:Rex
URL:https://hbssc.ca/event/r-taylor-battling-cage/2026-02-16/
CATEGORIES:Sprint Track
END:VEVENT
BEGIN:VEVENT
DTSTART;TZID=America/Halifax:20260217T133000
DTEND;TZID=America/Halifax:20260217T143000
DTSTAMP:20260422T010340
CREATED:20260217T153826Z
LAST-MODIFIED:20260217T153856Z
UID:10026484-1771335000-1771338600@hbssc.ca
SUMMARY:Bonny Lea Farm - Track & Sensory Room
DESCRIPTION:
URL:https://hbssc.ca/event/bonny-lea-farm-sensory-room/
CATEGORIES:Sensory Experience Room
END:VEVENT
BEGIN:VEVENT
DTSTART;TZID=America/Halifax:20260217T170000
DTEND;TZID=America/Halifax:20260217T180000
DTSTAMP:20260422T010340
CREATED:20260217T150639Z
LAST-MODIFIED:20260217T150639Z
UID:10026482-1771347600-1771351200@hbssc.ca
SUMMARY:Issac Riis sprint track
DESCRIPTION:
URL:https://hbssc.ca/event/issac-riis-sprint-track/
CATEGORIES:Sprint Track
END:VEVENT
BEGIN:VEVENT
DTSTART;TZID=America/Halifax:20260219T140000
DTEND;TZID=America/Halifax:20260219T150000
DTSTAMP:20260422T010340
CREATED:20260203T195614Z
LAST-MODIFIED:20260203T195614Z
UID:10024677-1771509600-1771513200@hbssc.ca
SUMMARY:Balsam Care Sensory
DESCRIPTION:Felicia \n 
URL:https://hbssc.ca/event/balsam-care-sensory/2026-02-19/
CATEGORIES:Sensory Experience Room
END:VEVENT
BEGIN:VEVENT
DTSTART;TZID=America/Halifax:20260221T123000
DTEND;TZID=America/Halifax:20260221T133000
DTSTAMP:20260422T010340
CREATED:20251209T180151Z
LAST-MODIFIED:20260103T124402Z
UID:10021726-1771677000-1771680600@hbssc.ca
SUMMARY:Jay Hatt Bouncy Party
DESCRIPTION:
URL:https://hbssc.ca/event/jay-hatt-bouncy-castle-party/
CATEGORIES:Playing Field
END:VEVENT
BEGIN:VEVENT
DTSTART;TZID=America/Halifax:20260221T133000
DTEND;TZID=America/Halifax:20260221T141500
DTSTAMP:20260422T010340
CREATED:20251209T180938Z
LAST-MODIFIED:20251209T181504Z
UID:10021727-1771680600-1771683300@hbssc.ca
SUMMARY:Jay Hatt
DESCRIPTION:
URL:https://hbssc.ca/event/jay-hatt/
CATEGORIES:Multi-Purpose Function Room
END:VEVENT
BEGIN:VEVENT
DTSTART;TZID=America/Halifax:20260221T143000
DTEND;TZID=America/Halifax:20260221T152500
DTSTAMP:20260422T010340
CREATED:20251229T162519Z
LAST-MODIFIED:20251229T162519Z
UID:10021773-1771684200-1771687500@hbssc.ca
SUMMARY:Druzina 1/2 Field Bouncy Castles
DESCRIPTION:Alli
URL:https://hbssc.ca/event/druzina-1-2-field-bouncy-castles/
CATEGORIES:Playing Field
END:VEVENT
BEGIN:VEVENT
DTSTART;TZID=America/Halifax:20260221T152500
DTEND;TZID=America/Halifax:20260221T161500
DTSTAMP:20260422T010340
CREATED:20251229T162621Z
LAST-MODIFIED:20251229T162621Z
UID:10021774-1771687500-1771690500@hbssc.ca
SUMMARY:Druzina Party Room
DESCRIPTION:Alli
URL:https://hbssc.ca/event/druzina-party-room/
CATEGORIES:Multi-Purpose Function Room
END:VEVENT
BEGIN:VEVENT
DTSTART;TZID=America/Halifax:20260221T163000
DTEND;TZID=America/Halifax:20260221T180000
DTSTAMP:20260422T010340
CREATED:20260105T153706Z
LAST-MODIFIED:20260105T153706Z
UID:10021798-1771691400-1771696800@hbssc.ca
SUMMARY:Vantassel Dance Party
DESCRIPTION:Destiny
URL:https://hbssc.ca/event/vantassel-dance-party/
CATEGORIES:Multi-Purpose Function Room
END:VEVENT
BEGIN:VEVENT
DTSTART;TZID=America/Halifax:20260222T130000
DTEND;TZID=America/Halifax:20260222T140000
DTSTAMP:20260422T010340
CREATED:20260106T133244Z
LAST-MODIFIED:20260106T133244Z
UID:10021808-1771765200-1771768800@hbssc.ca
SUMMARY:Liddy  1/2 field bouncy castle Party
DESCRIPTION:Elizabeth Liddy
URL:https://hbssc.ca/event/liddy-1-2-field-bouncy-castle-party-2/
CATEGORIES:Playing Field
END:VEVENT
BEGIN:VEVENT
DTSTART;TZID=America/Halifax:20260222T133000
DTEND;TZID=America/Halifax:20260222T153000
DTSTAMP:20260422T010340
CREATED:20260113T180033Z
LAST-MODIFIED:20260113T180033Z
UID:10021977-1771767000-1771774200@hbssc.ca
SUMMARY:Baseball NS U 15 Evaluations
DESCRIPTION:Keegan Gaskell 1/2 field 1:30-2:30 \nfull field 2:30-3:30
URL:https://hbssc.ca/event/baseball-ns-u-15-evaluations/
CATEGORIES:Playing Field
END:VEVENT
BEGIN:VEVENT
DTSTART;TZID=America/Halifax:20260222T140000
DTEND;TZID=America/Halifax:20260222T150000
DTSTAMP:20260422T010340
CREATED:20260106T133345Z
LAST-MODIFIED:20260106T133345Z
UID:10021809-1771768800-1771772400@hbssc.ca
SUMMARY:Liddy Party
DESCRIPTION:Elizabeth
URL:https://hbssc.ca/event/liddy-party-3/
CATEGORIES:Multi-Purpose Function Room
END:VEVENT
BEGIN:VEVENT
DTSTART;TZID=America/Halifax:20260222T203000
DTEND;TZID=America/Halifax:20260222T220000
DTSTAMP:20260422T010340
CREATED:20260220T010410Z
LAST-MODIFIED:20260220T010410Z
UID:10026627-1771792200-1771797600@hbssc.ca
SUMMARY:Soccer
DESCRIPTION:Gladwin
URL:https://hbssc.ca/event/soccer-2/
CATEGORIES:Playing Field
END:VEVENT
BEGIN:VEVENT
DTSTART;TZID=America/Halifax:20260223T110000
DTEND;TZID=America/Halifax:20260223T220000
DTSTAMP:20260422T010340
CREATED:20260224T145038Z
LAST-MODIFIED:20260224T145038Z
UID:10026680-1771844400-1771884000@hbssc.ca
SUMMARY:Closed at 11am due to storm
DESCRIPTION:
URL:https://hbssc.ca/event/closed-at-11am-due-to-storm/
END:VEVENT
BEGIN:VEVENT
DTSTART;TZID=America/Halifax:20260224T110000
DTEND;TZID=America/Halifax:20260224T120000
DTSTAMP:20260422T010340
CREATED:20251230T144919Z
LAST-MODIFIED:20251230T144919Z
UID:10021780-1771930800-1771934400@hbssc.ca
SUMMARY:+55 Women's Walking Soccer
DESCRIPTION:
URL:https://hbssc.ca/event/55-womens-walking-soccer-5/
CATEGORIES:Playing Field
END:VEVENT
BEGIN:VEVENT
DTSTART;TZID=America/Halifax:20260224T140000
DTEND;TZID=America/Halifax:20260224T150000
DTSTAMP:20260422T010340
CREATED:20251215T191347Z
LAST-MODIFIED:20251215T191347Z
UID:10021751-1771941600-1771945200@hbssc.ca
SUMMARY:Silver Moon Wellness
DESCRIPTION:Michelle Silver
URL:https://hbssc.ca/event/silver-moon-wellness-2/2026-02-24/
CATEGORIES:Multi-Purpose Function Room
END:VEVENT
BEGIN:VEVENT
DTSTART;TZID=America/Halifax:20260227T160000
DTEND;TZID=America/Halifax:20260227T170000
DTSTAMP:20260422T010340
CREATED:20260224T162554Z
LAST-MODIFIED:20260224T162554Z
UID:10026683-1772208000-1772211600@hbssc.ca
SUMMARY:Fortuna Sensory Room #2
DESCRIPTION:Tim
URL:https://hbssc.ca/event/fortuna-sensory-room-2/
CATEGORIES:Sensory Magic room (room#2)
END:VEVENT
BEGIN:VEVENT
DTSTART;TZID=America/Halifax:20260228T130000
DTEND;TZID=America/Halifax:20260228T135500
DTSTAMP:20260422T010340
CREATED:20260105T005646Z
LAST-MODIFIED:20260105T005646Z
UID:10021796-1772283600-1772286900@hbssc.ca
SUMMARY:Zwicker Full Field Bouncy and Sensory
DESCRIPTION:Joel Zwicker
URL:https://hbssc.ca/event/zwicker-full-field-bouncy-and-sensory/
CATEGORIES:Playing Field
END:VEVENT
BEGIN:VEVENT
DTSTART;TZID=America/Halifax:20260228T135500
DTEND;TZID=America/Halifax:20260228T144000
DTSTAMP:20260422T010340
CREATED:20260105T005807Z
LAST-MODIFIED:20260105T005807Z
UID:10021797-1772286900-1772289600@hbssc.ca
SUMMARY:Zwicker Party
DESCRIPTION:Joel Zwicker
URL:https://hbssc.ca/event/zwicker-party-4/
CATEGORIES:Multi-Purpose Function Room
END:VEVENT
BEGIN:VEVENT
DTSTART;TZID=America/Halifax:20260228T140000
DTEND;TZID=America/Halifax:20260228T160000
DTSTAMP:20260422T010340
CREATED:20260105T173530Z
LAST-MODIFIED:20260105T173530Z
UID:10021800-1772287200-1772294400@hbssc.ca
SUMMARY:Sparling Bouncy Castle Party
DESCRIPTION:Raine
URL:https://hbssc.ca/event/sparling-bouncy-castle-party/
CATEGORIES:Playing Field
END:VEVENT
BEGIN:VEVENT
DTSTART;TZID=America/Halifax:20260301T093000
DTEND;TZID=America/Halifax:20260301T103000
DTSTAMP:20260422T010340
CREATED:20260211T155023Z
LAST-MODIFIED:20260211T155023Z
UID:10025478-1772357400-1772361000@hbssc.ca
SUMMARY:Husklison 1/2 field bouncy castle party
DESCRIPTION:Nicole
URL:https://hbssc.ca/event/husklison-1-2-field-bouncy-castle-party/
CATEGORIES:Playing Field
END:VEVENT
BEGIN:VEVENT
DTSTART;TZID=America/Halifax:20260301T103000
DTEND;TZID=America/Halifax:20260301T113000
DTSTAMP:20260422T010340
CREATED:20260211T155128Z
LAST-MODIFIED:20260211T155128Z
UID:10025479-1772361000-1772364600@hbssc.ca
SUMMARY:Husklison Party
DESCRIPTION:Nicole
URL:https://hbssc.ca/event/husklison-party-2/
CATEGORIES:Multi-Purpose Function Room
END:VEVENT
BEGIN:VEVENT
DTSTART;TZID=America/Halifax:20260301T130000
DTEND;TZID=America/Halifax:20260301T135500
DTSTAMP:20260422T010340
CREATED:20251230T122759Z
LAST-MODIFIED:20251230T122759Z
UID:10021775-1772370000-1772373300@hbssc.ca
SUMMARY:Macinnis 1/2 Field Laser Tag
DESCRIPTION:Emily
URL:https://hbssc.ca/event/macinnis-1-2-field-laser-tag/
CATEGORIES:Playing Field
END:VEVENT
BEGIN:VEVENT
DTSTART;TZID=America/Halifax:20260301T135500
DTEND;TZID=America/Halifax:20260301T144000
DTSTAMP:20260422T010340
CREATED:20251230T123009Z
LAST-MODIFIED:20251230T123009Z
UID:10021776-1772373300-1772376000@hbssc.ca
SUMMARY:Macinnis Party Room
DESCRIPTION:Emily
URL:https://hbssc.ca/event/macinnis-party-room/
CATEGORIES:Multi-Purpose Function Room
END:VEVENT
BEGIN:VEVENT
DTSTART;TZID=America/Halifax:20260301T141500
DTEND;TZID=America/Halifax:20260301T151000
DTSTAMP:20260422T010340
CREATED:20260114T191934Z
LAST-MODIFIED:20260114T191934Z
UID:10022107-1772374500-1772377800@hbssc.ca
SUMMARY:Lynds 1/2 field bouncy castle party
DESCRIPTION:Nicole Lynds
URL:https://hbssc.ca/event/lynds-1-2-field-bouncy-castle-party/
CATEGORIES:Playing Field
END:VEVENT
BEGIN:VEVENT
DTSTART;TZID=America/Halifax:20260301T151000
DTEND;TZID=America/Halifax:20260301T160000
DTSTAMP:20260422T010340
CREATED:20260114T193725Z
LAST-MODIFIED:20260114T193725Z
UID:10022110-1772377800-1772380800@hbssc.ca
SUMMARY:Lynds Party
DESCRIPTION:
URL:https://hbssc.ca/event/lynds-party/
CATEGORIES:Multi-Purpose Function Room
END:VEVENT
BEGIN:VEVENT
DTSTART;TZID=America/Halifax:20260301T203000
DTEND;TZID=America/Halifax:20260301T220000
DTSTAMP:20260422T010340
CREATED:20260223T021242Z
LAST-MODIFIED:20260223T021242Z
UID:10026656-1772397000-1772402400@hbssc.ca
SUMMARY:Gladwin - Soccer
DESCRIPTION:8:30-10\, might only be 930pm.
URL:https://hbssc.ca/event/gladwin-soccer/
CATEGORIES:Playing Field
END:VEVENT
BEGIN:VEVENT
DTSTART;TZID=America/Halifax:20260302T160000
DTEND;TZID=America/Halifax:20260302T170000
DTSTAMP:20260422T010340
CREATED:20260316T002530Z
LAST-MODIFIED:20260316T002530Z
UID:10027009-1772467200-1772470800@hbssc.ca
SUMMARY:Riv Sud Soccer
DESCRIPTION:
URL:https://hbssc.ca/event/riv-sud-soccer-2/
CATEGORIES:Playing Field
END:VEVENT
END:VCALENDAR