BEGIN:VCALENDAR
VERSION:2.0
PRODID:-//HB STUDIOS SPORTS CENTRE - ECPv6.15.17.1//NONSGML v1.0//EN
CALSCALE:GREGORIAN
METHOD:PUBLISH
X-WR-CALNAME:HB STUDIOS SPORTS CENTRE
X-ORIGINAL-URL:https://hbssc.ca
X-WR-CALDESC:Events for HB STUDIOS SPORTS CENTRE
REFRESH-INTERVAL;VALUE=DURATION:PT1H
X-Robots-Tag:noindex
X-PUBLISHED-TTL:PT1H
BEGIN:VTIMEZONE
TZID:America/Halifax
BEGIN:DAYLIGHT
TZOFFSETFROM:-0400
TZOFFSETTO:-0300
TZNAME:ADT
DTSTART:20250309T060000
END:DAYLIGHT
BEGIN:STANDARD
TZOFFSETFROM:-0300
TZOFFSETTO:-0400
TZNAME:AST
DTSTART:20251102T050000
END:STANDARD
BEGIN:DAYLIGHT
TZOFFSETFROM:-0400
TZOFFSETTO:-0300
TZNAME:ADT
DTSTART:20260308T060000
END:DAYLIGHT
BEGIN:STANDARD
TZOFFSETFROM:-0300
TZOFFSETTO:-0400
TZNAME:AST
DTSTART:20261101T050000
END:STANDARD
BEGIN:DAYLIGHT
TZOFFSETFROM:-0400
TZOFFSETTO:-0300
TZNAME:ADT
DTSTART:20270314T060000
END:DAYLIGHT
BEGIN:STANDARD
TZOFFSETFROM:-0300
TZOFFSETTO:-0400
TZNAME:AST
DTSTART:20271107T050000
END:STANDARD
END:VTIMEZONE
BEGIN:VEVENT
DTSTART;TZID=America/Halifax:20260411T120000
DTEND;TZID=America/Halifax:20260411T130000
DTSTAMP:20260419T220527
CREATED:20260323T161200Z
LAST-MODIFIED:20260323T161221Z
UID:10027226-1775908800-1775912400@hbssc.ca
SUMMARY:Rombeek Party
DESCRIPTION:Megan
URL:https://hbssc.ca/event/rombeek-party/
CATEGORIES:EastLink Community Room
END:VEVENT
BEGIN:VEVENT
DTSTART;TZID=America/Halifax:20260411T130000
DTEND;TZID=America/Halifax:20260411T135500
DTSTAMP:20260419T220527
CREATED:20260226T155957Z
LAST-MODIFIED:20260226T160007Z
UID:10026867-1775912400-1775915700@hbssc.ca
SUMMARY:Fancy Full Field Bouncy Castle Party
DESCRIPTION:Hope
URL:https://hbssc.ca/event/fancy-bouncy-castle-party/
CATEGORIES:Playing Field
END:VEVENT
BEGIN:VEVENT
DTSTART;TZID=America/Halifax:20260411T135500
DTEND;TZID=America/Halifax:20260411T144000
DTSTAMP:20260419T220527
CREATED:20260226T160048Z
LAST-MODIFIED:20260226T160048Z
UID:10026868-1775915700-1775918400@hbssc.ca
SUMMARY:Fancy Party
DESCRIPTION:Hope
URL:https://hbssc.ca/event/fancy-party-2/
CATEGORIES:EastLink Community Room
END:VEVENT
BEGIN:VEVENT
DTSTART;TZID=America/Halifax:20260411T150000
DTEND;TZID=America/Halifax:20260411T173000
DTSTAMP:20260419T220527
CREATED:20251118T170220Z
LAST-MODIFIED:20251118T170220Z
UID:10021608-1775919600-1775928600@hbssc.ca
SUMMARY:SPRING MOVIE "How to Train your Dragon"
DESCRIPTION:
URL:https://hbssc.ca/event/spring-movie-how-to-train-your-dragon/
CATEGORIES:Playing Field
END:VEVENT
BEGIN:VEVENT
DTSTART;TZID=America/Halifax:20260412T093000
DTEND;TZID=America/Halifax:20260412T102500
DTSTAMP:20260419T220527
CREATED:20260324T181210Z
LAST-MODIFIED:20260324T201437Z
UID:10027239-1775986200-1775989500@hbssc.ca
SUMMARY:Zaozersaia 1/2 Field Bouncy Castle Party
DESCRIPTION:Emma
URL:https://hbssc.ca/event/zaozersaia-1-2-field-bouncy-castle-party/
CATEGORIES:Playing Field
END:VEVENT
BEGIN:VEVENT
DTSTART;TZID=America/Halifax:20260412T102500
DTEND;TZID=America/Halifax:20260412T111000
DTSTAMP:20260419T220527
CREATED:20260324T181424Z
LAST-MODIFIED:20260324T201610Z
UID:10027240-1775989500-1775992200@hbssc.ca
SUMMARY:Zaozersaia Party
DESCRIPTION:Emma
URL:https://hbssc.ca/event/zaozersaia-party/
CATEGORIES:EastLink Community Room
END:VEVENT
BEGIN:VEVENT
DTSTART;TZID=America/Halifax:20260412T130000
DTEND;TZID=America/Halifax:20260412T160000
DTSTAMP:20260419T220527
CREATED:20260224T165143Z
LAST-MODIFIED:20260224T165143Z
UID:10026684-1775998800-1776009600@hbssc.ca
SUMMARY:Lunenburg Pride Meeting room
DESCRIPTION:Elliot
URL:https://hbssc.ca/event/lunenburg-pride-meeting-room-2/
CATEGORIES:Multi-Purpose Function Room
END:VEVENT
BEGIN:VEVENT
DTSTART;TZID=America/Halifax:20260412T130000
DTEND;TZID=America/Halifax:20260412T160000
DTSTAMP:20260419T220527
CREATED:20260315T182250Z
LAST-MODIFIED:20260315T182250Z
UID:10026994-1775998800-1776009600@hbssc.ca
SUMMARY:Bridgewater Baseball
DESCRIPTION:
URL:https://hbssc.ca/event/bridgewater-baseball-2/
CATEGORIES:Playing Field
END:VEVENT
BEGIN:VEVENT
DTSTART;TZID=America/Halifax:20260412T193000
DTEND;TZID=America/Halifax:20260412T203000
DTSTAMP:20260419T220527
CREATED:20260408T124152Z
LAST-MODIFIED:20260408T124152Z
UID:10027507-1776022200-1776025800@hbssc.ca
SUMMARY:Bridgewater Baseball
DESCRIPTION:Chris Zinck
URL:https://hbssc.ca/event/bridgewater-baseball-4/2026-04-12/
CATEGORIES:Playing Field
END:VEVENT
BEGIN:VEVENT
DTSTART;TZID=America/Halifax:20260414T133000
DTEND;TZID=America/Halifax:20260414T143000
DTSTAMP:20260419T220527
CREATED:20260414T131913Z
LAST-MODIFIED:20260414T131913Z
UID:10027677-1776173400-1776177000@hbssc.ca
SUMMARY:Bonny Lea - Sensory Room
DESCRIPTION:
URL:https://hbssc.ca/event/bonny-lea-sensory-room-4/
CATEGORIES:Sensory Experience Room
END:VEVENT
BEGIN:VEVENT
DTSTART;TZID=America/Halifax:20260414T140000
DTEND;TZID=America/Halifax:20260414T150000
DTSTAMP:20260419T220527
CREATED:20260313T185801Z
LAST-MODIFIED:20260313T185801Z
UID:10026981-1776175200-1776178800@hbssc.ca
SUMMARY:Silver Moon Wellness
DESCRIPTION:Michelle
URL:https://hbssc.ca/event/silver-moon-wellness-6/
CATEGORIES:Multi-Purpose Function Room
END:VEVENT
BEGIN:VEVENT
DTSTART;TZID=America/Halifax:20260415T080000
DTEND;TZID=America/Halifax:20260415T170000
DTSTAMP:20260419T220527
CREATED:20260415T134227Z
LAST-MODIFIED:20260415T134227Z
UID:10027682-1776240000-1776272400@hbssc.ca
SUMMARY:BES French Immersion Classes
DESCRIPTION:Elyse Van Nie \nfield 1. sports\, 2. play equipment 3. active yard games \nmeeting room 4. dance party \nside track 5. less active yard games
URL:https://hbssc.ca/event/bes-french-immersion-classes/
CATEGORIES:Multi-Purpose Function Room,Playing Field,Sprint Track
END:VEVENT
BEGIN:VEVENT
DTSTART;TZID=America/Halifax:20260415T170000
DTEND;TZID=America/Halifax:20260415T180000
DTSTAMP:20260419T220527
CREATED:20260404T123840Z
LAST-MODIFIED:20260404T123840Z
UID:10027425-1776272400-1776276000@hbssc.ca
SUMMARY:SSUFC
DESCRIPTION:Sarah Taylor
URL:https://hbssc.ca/event/ssufc-15/
END:VEVENT
BEGIN:VEVENT
DTSTART;TZID=America/Halifax:20260415T173000
DTEND;TZID=America/Halifax:20260415T183000
DTSTAMP:20260419T220527
CREATED:20260316T003729Z
LAST-MODIFIED:20260316T003729Z
UID:10027013-1776274200-1776277800@hbssc.ca
SUMMARY:Warrior Within Fitness
DESCRIPTION:
URL:https://hbssc.ca/event/warrior-within-fitness-6/
CATEGORIES:Blue Matted Fitness Zone
END:VEVENT
BEGIN:VEVENT
DTSTART;TZID=America/Halifax:20260416T094500
DTEND;TZID=America/Halifax:20260416T153000
DTSTAMP:20260419T220527
CREATED:20260327T122242Z
LAST-MODIFIED:20260327T122242Z
UID:10027320-1776332700-1776353400@hbssc.ca
SUMMARY:PVEC Phys Ed Class
DESCRIPTION:Grant Johnson
URL:https://hbssc.ca/event/pvec-phys-ed-class/
CATEGORIES:Playing Field
END:VEVENT
BEGIN:VEVENT
DTSTART;TZID=America/Halifax:20260416T140000
DTEND;TZID=America/Halifax:20260416T150000
DTSTAMP:20260419T220527
CREATED:20260417T112419Z
LAST-MODIFIED:20260417T112419Z
UID:10027724-1776348000-1776351600@hbssc.ca
SUMMARY:Balsam House - Sensory Room
DESCRIPTION:Luke
URL:https://hbssc.ca/event/balsam-house-sensory-room/
CATEGORIES:Sensory Experience Room
END:VEVENT
BEGIN:VEVENT
DTSTART;TZID=America/Halifax:20260417T180000
DTEND;TZID=America/Halifax:20260417T200000
DTSTAMP:20260419T220527
CREATED:20260417T205646Z
LAST-MODIFIED:20260417T205646Z
UID:10027747-1776448800-1776456000@hbssc.ca
SUMMARY:Baseball NS
DESCRIPTION:Keegan
URL:https://hbssc.ca/event/baseball-ns/
CATEGORIES:Playing Field
END:VEVENT
BEGIN:VEVENT
DTSTART;TZID=America/Halifax:20260418T090000
DTEND;TZID=America/Halifax:20260418T100000
DTSTAMP:20260419T220527
CREATED:20260409T235416Z
LAST-MODIFIED:20260409T235416Z
UID:10027642-1776502800-1776506400@hbssc.ca
SUMMARY:Trethewey Full field
DESCRIPTION:
URL:https://hbssc.ca/event/trethewey-full-field/
CATEGORIES:Playing Field
END:VEVENT
BEGIN:VEVENT
DTSTART;TZID=America/Halifax:20260418T103000
DTEND;TZID=America/Halifax:20260418T113000
DTSTAMP:20260419T220527
CREATED:20260324T130033Z
LAST-MODIFIED:20260324T130033Z
UID:10027230-1776508200-1776511800@hbssc.ca
SUMMARY:Ingram Full Field Bouncy Castle Party
DESCRIPTION:Alyssa Ingram
URL:https://hbssc.ca/event/ingram-full-field-bouncy-castle-party/
CATEGORIES:Playing Field
END:VEVENT
BEGIN:VEVENT
DTSTART;TZID=America/Halifax:20260418T113000
DTEND;TZID=America/Halifax:20260418T122500
DTSTAMP:20260419T220527
CREATED:20260225T140617Z
LAST-MODIFIED:20260225T140617Z
UID:10026685-1776511800-1776515100@hbssc.ca
SUMMARY:George Full Field Bouncy Castle Party
DESCRIPTION:Jenn
URL:https://hbssc.ca/event/george-full-field-bouncy-castle-party/
CATEGORIES:Playing Field
END:VEVENT
BEGIN:VEVENT
DTSTART;TZID=America/Halifax:20260418T113000
DTEND;TZID=America/Halifax:20260418T123000
DTSTAMP:20260419T220527
CREATED:20260324T130228Z
LAST-MODIFIED:20260330T124831Z
UID:10027231-1776511800-1776515400@hbssc.ca
SUMMARY:Ingram Party
DESCRIPTION:Alyssa
URL:https://hbssc.ca/event/ingram-party/
CATEGORIES:EastLink Community Room
END:VEVENT
BEGIN:VEVENT
DTSTART;TZID=America/Halifax:20260418T122500
DTEND;TZID=America/Halifax:20260418T131000
DTSTAMP:20260419T220527
CREATED:20260225T140714Z
LAST-MODIFIED:20260225T140757Z
UID:10026686-1776515100-1776517800@hbssc.ca
SUMMARY:George Party
DESCRIPTION:Jenn
URL:https://hbssc.ca/event/george-party-2/
CATEGORIES:Multi-Purpose Function Room
END:VEVENT
BEGIN:VEVENT
DTSTART;TZID=America/Halifax:20260418T130000
DTEND;TZID=America/Halifax:20260418T135500
DTSTAMP:20260419T220527
CREATED:20260108T191410Z
LAST-MODIFIED:20260108T191410Z
UID:10021861-1776517200-1776520500@hbssc.ca
SUMMARY:Williams Full Field Bouncy Castles
DESCRIPTION:Jessie
URL:https://hbssc.ca/event/williams-full-field-bouncy-castles/
CATEGORIES:Playing Field
END:VEVENT
BEGIN:VEVENT
DTSTART;TZID=America/Halifax:20260418T135500
DTEND;TZID=America/Halifax:20260418T144000
DTSTAMP:20260419T220527
CREATED:20260108T191517Z
LAST-MODIFIED:20260108T191517Z
UID:10021862-1776520500-1776523200@hbssc.ca
SUMMARY:Williams Party Room
DESCRIPTION:Jessie
URL:https://hbssc.ca/event/williams-party-room/
CATEGORIES:Multi-Purpose Function Room
END:VEVENT
BEGIN:VEVENT
DTSTART;TZID=America/Halifax:20260418T140000
DTEND;TZID=America/Halifax:20260418T145500
DTSTAMP:20260419T220527
CREATED:20260123T125452Z
LAST-MODIFIED:20260123T125452Z
UID:10023813-1776520800-1776524100@hbssc.ca
SUMMARY:Miller Full-Field Bouncy Castle
DESCRIPTION:Jenny
URL:https://hbssc.ca/event/miller-full-field-bouncy-castle/
CATEGORIES:Playing Field
END:VEVENT
BEGIN:VEVENT
DTSTART;TZID=America/Halifax:20260418T145500
DTEND;TZID=America/Halifax:20260418T154000
DTSTAMP:20260419T220527
CREATED:20260123T125555Z
LAST-MODIFIED:20260123T125609Z
UID:10023814-1776524100-1776526800@hbssc.ca
SUMMARY:Miller Party
DESCRIPTION:Jenny
URL:https://hbssc.ca/event/miller-party-8/
CATEGORIES:Multi-Purpose Function Room
END:VEVENT
BEGIN:VEVENT
DTSTART;TZID=America/Halifax:20260419T093000
DTEND;TZID=America/Halifax:20260419T103000
DTSTAMP:20260419T220527
CREATED:20260313T153428Z
LAST-MODIFIED:20260313T153428Z
UID:10026952-1776591000-1776594600@hbssc.ca
SUMMARY:Corkum Full Field Bouncy Castle Party
DESCRIPTION:Alisha
URL:https://hbssc.ca/event/corkum-full-field-bouncy-castle-party-2/
CATEGORIES:Playing Field
END:VEVENT
BEGIN:VEVENT
DTSTART;TZID=America/Halifax:20260419T103000
DTEND;TZID=America/Halifax:20260419T120000
DTSTAMP:20260419T220527
CREATED:20260313T153519Z
LAST-MODIFIED:20260313T153519Z
UID:10026953-1776594600-1776600000@hbssc.ca
SUMMARY:Corkum Party
DESCRIPTION:Alisha
URL:https://hbssc.ca/event/corkum-party-7/
CATEGORIES:Multi-Purpose Function Room
END:VEVENT
BEGIN:VEVENT
DTSTART;TZID=America/Halifax:20260419T110000
DTEND;TZID=America/Halifax:20260419T123000
DTSTAMP:20260419T220527
CREATED:20260316T141220Z
LAST-MODIFIED:20260316T141220Z
UID:10027031-1776596400-1776601800@hbssc.ca
SUMMARY:Ultimate Frisbee
DESCRIPTION:
URL:https://hbssc.ca/event/ultimate-frisbee-6/
CATEGORIES:Playing Field
END:VEVENT
BEGIN:VEVENT
DTSTART;TZID=America/Halifax:20260419T130000
DTEND;TZID=America/Halifax:20260419T160000
DTSTAMP:20260419T220527
CREATED:20260315T182414Z
LAST-MODIFIED:20260315T182414Z
UID:10026995-1776603600-1776614400@hbssc.ca
SUMMARY:Bridgewater Baseball
DESCRIPTION:
URL:https://hbssc.ca/event/bridgewater-baseball-3/
CATEGORIES:Playing Field
END:VEVENT
END:VCALENDAR