BEGIN:VCALENDAR
VERSION:2.0
PRODID:-//HB STUDIOS SPORTS CENTRE - ECPv6.15.17.1//NONSGML v1.0//EN
CALSCALE:GREGORIAN
METHOD:PUBLISH
X-WR-CALNAME:HB STUDIOS SPORTS CENTRE
X-ORIGINAL-URL:https://hbssc.ca
X-WR-CALDESC:Events for HB STUDIOS SPORTS CENTRE
REFRESH-INTERVAL;VALUE=DURATION:PT1H
X-Robots-Tag:noindex
X-PUBLISHED-TTL:PT1H
BEGIN:VTIMEZONE
TZID:America/Halifax
BEGIN:DAYLIGHT
TZOFFSETFROM:-0400
TZOFFSETTO:-0300
TZNAME:ADT
DTSTART:20250309T060000
END:DAYLIGHT
BEGIN:STANDARD
TZOFFSETFROM:-0300
TZOFFSETTO:-0400
TZNAME:AST
DTSTART:20251102T050000
END:STANDARD
BEGIN:DAYLIGHT
TZOFFSETFROM:-0400
TZOFFSETTO:-0300
TZNAME:ADT
DTSTART:20260308T060000
END:DAYLIGHT
BEGIN:STANDARD
TZOFFSETFROM:-0300
TZOFFSETTO:-0400
TZNAME:AST
DTSTART:20261101T050000
END:STANDARD
BEGIN:DAYLIGHT
TZOFFSETFROM:-0400
TZOFFSETTO:-0300
TZNAME:ADT
DTSTART:20270314T060000
END:DAYLIGHT
BEGIN:STANDARD
TZOFFSETFROM:-0300
TZOFFSETTO:-0400
TZNAME:AST
DTSTART:20271107T050000
END:STANDARD
END:VTIMEZONE
BEGIN:VEVENT
DTSTART;TZID=America/Halifax:20260502T122500
DTEND;TZID=America/Halifax:20260502T131000
DTSTAMP:20260420T021853
CREATED:20260219T161406Z
LAST-MODIFIED:20260219T161406Z
UID:10026618-1777724700-1777727400@hbssc.ca
SUMMARY:Hurlburt Party
DESCRIPTION:Julie
URL:https://hbssc.ca/event/hurlburt-party-3/
CATEGORIES:Multi-Purpose Function Room
END:VEVENT
BEGIN:VEVENT
DTSTART;TZID=America/Halifax:20260502T130000
DTEND;TZID=America/Halifax:20260502T135500
DTSTAMP:20260420T021853
CREATED:20260116T173822Z
LAST-MODIFIED:20260116T173833Z
UID:10022800-1777726800-1777730100@hbssc.ca
SUMMARY:Joudrey Half-Field Bouncy Castle Party
DESCRIPTION:Leslie Joudrey
URL:https://hbssc.ca/event/joudrey-half-field-bouncy-castle-party/
CATEGORIES:Playing Field
END:VEVENT
BEGIN:VEVENT
DTSTART;TZID=America/Halifax:20260502T135500
DTEND;TZID=America/Halifax:20260502T144000
DTSTAMP:20260420T021853
CREATED:20260116T173919Z
LAST-MODIFIED:20260116T173926Z
UID:10022801-1777730100-1777732800@hbssc.ca
SUMMARY:Joudrey Party
DESCRIPTION:Leslie Joudrey
URL:https://hbssc.ca/event/joudrey-party-4/
CATEGORIES:Multi-Purpose Function Room
END:VEVENT
BEGIN:VEVENT
DTSTART;TZID=America/Halifax:20260502T143000
DTEND;TZID=America/Halifax:20260502T152500
DTSTAMP:20260420T021854
CREATED:20260210T190118Z
LAST-MODIFIED:20260210T190118Z
UID:10025425-1777732200-1777735500@hbssc.ca
SUMMARY:Fancy Full Field Bouncy Castle Party
DESCRIPTION:Leanne
URL:https://hbssc.ca/event/fancy-full-field-bouncy-castle-party/
CATEGORIES:Playing Field
END:VEVENT
BEGIN:VEVENT
DTSTART;TZID=America/Halifax:20260502T152500
DTEND;TZID=America/Halifax:20260502T161000
DTSTAMP:20260420T021854
CREATED:20260210T190205Z
LAST-MODIFIED:20260210T190205Z
UID:10025426-1777735500-1777738200@hbssc.ca
SUMMARY:Fancy Party
DESCRIPTION:Leanne
URL:https://hbssc.ca/event/fancy-party/
CATEGORIES:Multi-Purpose Function Room
END:VEVENT
BEGIN:VEVENT
DTSTART;TZID=America/Halifax:20260502T153000
DTEND;TZID=America/Halifax:20260502T163000
DTSTAMP:20260420T021854
CREATED:20260313T155858Z
LAST-MODIFIED:20260313T155858Z
UID:10026956-1777735800-1777739400@hbssc.ca
SUMMARY:Bradford Full Field Bouncy Castle Party
DESCRIPTION:Jessica
URL:https://hbssc.ca/event/bradford-full-field-bouncy-castle-party/
CATEGORIES:Playing Field
END:VEVENT
BEGIN:VEVENT
DTSTART;TZID=America/Halifax:20260502T163000
DTEND;TZID=America/Halifax:20260502T173000
DTSTAMP:20260420T021854
CREATED:20260313T155956Z
LAST-MODIFIED:20260313T155956Z
UID:10026957-1777739400-1777743000@hbssc.ca
SUMMARY:Bradford Party
DESCRIPTION:Jessica
URL:https://hbssc.ca/event/bradford-party/
CATEGORIES:Multi-Purpose Function Room
END:VEVENT
BEGIN:VEVENT
DTSTART;TZID=America/Halifax:20260502T163000
DTEND;TZID=America/Halifax:20260502T173000
DTSTAMP:20260420T021854
CREATED:20260313T160541Z
LAST-MODIFIED:20260313T160541Z
UID:10026958-1777739400-1777743000@hbssc.ca
SUMMARY:Joy 1/2 Filed Bouncy Castle Party
DESCRIPTION:Ashley
URL:https://hbssc.ca/event/joy-1-2-filed-bouncy-castle-party/
CATEGORIES:Playing Field
END:VEVENT
BEGIN:VEVENT
DTSTART;TZID=America/Halifax:20260502T173000
DTEND;TZID=America/Halifax:20260502T183000
DTSTAMP:20260420T021854
CREATED:20260313T160632Z
LAST-MODIFIED:20260313T160632Z
UID:10026959-1777743000-1777746600@hbssc.ca
SUMMARY:Joy Party
DESCRIPTION:Ashley
URL:https://hbssc.ca/event/joy-party-2/
CATEGORIES:Multi-Purpose Function Room
END:VEVENT
BEGIN:VEVENT
DTSTART;TZID=America/Halifax:20260503T130000
DTEND;TZID=America/Halifax:20260503T163000
DTSTAMP:20260420T021854
CREATED:20251027T130248Z
LAST-MODIFIED:20251027T130248Z
UID:10021465-1777813200-1777825800@hbssc.ca
SUMMARY:NSGEU Meeting
DESCRIPTION:Dwayne Foster
URL:https://hbssc.ca/event/nsgeu-meeting/
CATEGORIES:Multi-Purpose Function Room
END:VEVENT
BEGIN:VEVENT
DTSTART;TZID=America/Halifax:20260503T133000
DTEND;TZID=America/Halifax:20260503T142500
DTSTAMP:20260420T021854
CREATED:20260328T163005Z
LAST-MODIFIED:20260407T184231Z
UID:10027333-1777815000-1777818300@hbssc.ca
SUMMARY:Baker Full Field Playground Party
DESCRIPTION:Alex Baker
URL:https://hbssc.ca/event/baker-full-field-bouncy-castle/
CATEGORIES:Playing Field
END:VEVENT
BEGIN:VEVENT
DTSTART;TZID=America/Halifax:20260503T142500
DTEND;TZID=America/Halifax:20260503T151000
DTSTAMP:20260420T021854
CREATED:20260328T163153Z
LAST-MODIFIED:20260328T163153Z
UID:10027334-1777818300-1777821000@hbssc.ca
SUMMARY:Baker Party
DESCRIPTION:Alex Baker
URL:https://hbssc.ca/event/baker-party/
CATEGORIES:EastLink Community Room
END:VEVENT
BEGIN:VEVENT
DTSTART;TZID=America/Halifax:20260503T143000
DTEND;TZID=America/Halifax:20260503T153000
DTSTAMP:20260420T021854
CREATED:20251027T130455Z
LAST-MODIFIED:20251027T130455Z
UID:10021466-1777818600-1777822200@hbssc.ca
SUMMARY:NSGEU Field & Sensory Rooms
DESCRIPTION:Dwayne Foster \nFull Field Bouncy + Yard Games & Both Sensory Rooms
URL:https://hbssc.ca/event/nsgeu-field-sensory-rooms/
CATEGORIES:Playing Field,Sensory Experience Room,Sensory Magic room (room#2)
END:VEVENT
BEGIN:VEVENT
DTSTART;TZID=America/Halifax:20260503T160000
DTEND;TZID=America/Halifax:20260503T170000
DTSTAMP:20260420T021854
CREATED:20260323T160027Z
LAST-MODIFIED:20260323T160027Z
UID:10027223-1777824000-1777827600@hbssc.ca
SUMMARY:Adler Full Field Bouncy Castle Party
DESCRIPTION:Jessica
URL:https://hbssc.ca/event/adler-full-field-bouncy-castle-party/
CATEGORIES:Playing Field
END:VEVENT
BEGIN:VEVENT
DTSTART;TZID=America/Halifax:20260503T170000
DTEND;TZID=America/Halifax:20260503T180000
DTSTAMP:20260420T021854
CREATED:20260323T160110Z
LAST-MODIFIED:20260323T160110Z
UID:10027224-1777827600-1777831200@hbssc.ca
SUMMARY:Adler Party
DESCRIPTION:Jessica
URL:https://hbssc.ca/event/adler-party/
CATEGORIES:Multi-Purpose Function Room
END:VEVENT
BEGIN:VEVENT
DTSTART;TZID=America/Halifax:20260504T170000
DTEND;TZID=America/Halifax:20260504T200000
DTSTAMP:20260420T021854
CREATED:20251024T142455Z
LAST-MODIFIED:20251024T142455Z
UID:10021445-1777914000-1777924800@hbssc.ca
SUMMARY:NS Cooperative Council
DESCRIPTION:
URL:https://hbssc.ca/event/ns-cooperative-council-7/
CATEGORIES:Multi-Purpose Function Room
END:VEVENT
BEGIN:VEVENT
DTSTART;TZID=America/Halifax:20260505T140000
DTEND;TZID=America/Halifax:20260505T150000
DTSTAMP:20260420T021854
CREATED:20260313T190141Z
LAST-MODIFIED:20260313T190141Z
UID:10026984-1777989600-1777993200@hbssc.ca
SUMMARY:Silver Moon Wellness
DESCRIPTION:Michelle
URL:https://hbssc.ca/event/silver-moon-wellness-9/
CATEGORIES:Multi-Purpose Function Room
END:VEVENT
BEGIN:VEVENT
DTSTART;TZID=America/Halifax:20260506T170000
DTEND;TZID=America/Halifax:20260506T180000
DTSTAMP:20260420T021854
CREATED:20260413T141141Z
LAST-MODIFIED:20260413T141141Z
UID:10027669-1778086800-1778090400@hbssc.ca
SUMMARY:Thunder FC
DESCRIPTION:Alicia
URL:https://hbssc.ca/event/thunder-fc/
CATEGORIES:Playing Field
END:VEVENT
BEGIN:VEVENT
DTSTART;TZID=America/Halifax:20260506T173000
DTEND;TZID=America/Halifax:20260506T183000
DTSTAMP:20260420T021854
CREATED:20260408T123142Z
LAST-MODIFIED:20260408T123142Z
UID:10027497-1778088600-1778092200@hbssc.ca
SUMMARY:Warrior Within Fitness
DESCRIPTION:Lacey Sawler
URL:https://hbssc.ca/event/warrior-within-fitness-4/2026-05-06/
CATEGORIES:Blue Matted Fitness Zone
END:VEVENT
BEGIN:VEVENT
DTSTART;TZID=America/Halifax:20260506T180000
DTEND;TZID=America/Halifax:20260506T210000
DTSTAMP:20260420T021854
CREATED:20260416T164413Z
LAST-MODIFIED:20260416T164413Z
UID:10027723-1778090400-1778101200@hbssc.ca
SUMMARY:Thunder -SNS Field time
DESCRIPTION:Alicia Barkhouse
URL:https://hbssc.ca/event/thunder-sns-field-time/
CATEGORIES:Playing Field
END:VEVENT
BEGIN:VEVENT
DTSTART;TZID=America/Halifax:20260507T153000
DTEND;TZID=America/Halifax:20260507T180000
DTSTAMP:20260420T021854
CREATED:20260407T165930Z
LAST-MODIFIED:20260407T165930Z
UID:10027428-1778167800-1778176800@hbssc.ca
SUMMARY:Lunenburg Pride
DESCRIPTION:Elliot
URL:https://hbssc.ca/event/lunenburg-pride/2026-05-07/
CATEGORIES:Multi-Purpose Function Room
END:VEVENT
BEGIN:VEVENT
DTSTART;TZID=America/Halifax:20260508T153000
DTEND;TZID=America/Halifax:20260508T163000
DTSTAMP:20260420T021854
CREATED:20260330T182005Z
LAST-MODIFIED:20260330T182005Z
UID:10027345-1778254200-1778257800@hbssc.ca
SUMMARY:Riv Sud Soccer
DESCRIPTION:Heather Dominique \nAndrea Fancy
URL:https://hbssc.ca/event/riv-sud-soccer-4/
CATEGORIES:Playing Field
END:VEVENT
BEGIN:VEVENT
DTSTART;TZID=America/Halifax:20260508T203000
DTEND;TZID=America/Halifax:20260508T220000
DTSTAMP:20260420T021854
CREATED:20260313T184248Z
LAST-MODIFIED:20260313T184248Z
UID:10026977-1778272200-1778277600@hbssc.ca
SUMMARY:Dakin Soccer
DESCRIPTION:
URL:https://hbssc.ca/event/dakin-soccer-12/
CATEGORIES:Playing Field
END:VEVENT
BEGIN:VEVENT
DTSTART;TZID=America/Halifax:20260509T080000
DTEND;TZID=America/Halifax:20260509T160000
DTSTAMP:20260420T021854
CREATED:20250710T154455Z
LAST-MODIFIED:20250710T164533Z
UID:10020493-1778313600-1778342400@hbssc.ca
SUMMARY:St. John Ambulance
DESCRIPTION:Tina Hussey
URL:https://hbssc.ca/event/st-john-ambulance-28/2026-05-09/
CATEGORIES:Multi-Purpose Function Room
END:VEVENT
BEGIN:VEVENT
DTSTART;TZID=America/Halifax:20260509T110000
DTEND;TZID=America/Halifax:20260509T120000
DTSTAMP:20260420T021854
CREATED:20260407T190407Z
LAST-MODIFIED:20260407T190407Z
UID:10027431-1778324400-1778328000@hbssc.ca
SUMMARY:Doucet Full Field Bouncy Castle Party
DESCRIPTION:Gillian
URL:https://hbssc.ca/event/doucet-full-field-bouncy-castle-party/
CATEGORIES:Playing Field
END:VEVENT
BEGIN:VEVENT
DTSTART;TZID=America/Halifax:20260509T120000
DTEND;TZID=America/Halifax:20260509T130000
DTSTAMP:20260420T021854
CREATED:20260407T190620Z
LAST-MODIFIED:20260407T191017Z
UID:10027432-1778328000-1778331600@hbssc.ca
SUMMARY:Doucet Party
DESCRIPTION:Gillian
URL:https://hbssc.ca/event/doucet/
CATEGORIES:EastLink Community Room
END:VEVENT
BEGIN:VEVENT
DTSTART;TZID=America/Halifax:20260509T130000
DTEND;TZID=America/Halifax:20260509T140000
DTSTAMP:20260420T021854
CREATED:20260319T183818Z
LAST-MODIFIED:20260319T183818Z
UID:10027206-1778331600-1778335200@hbssc.ca
SUMMARY:Corkum  1/2 field bouncy castle Party
DESCRIPTION:Ashton
URL:https://hbssc.ca/event/corkum-1-2-field-bouncy-castle-party-2/
CATEGORIES:Playing Field
END:VEVENT
BEGIN:VEVENT
DTSTART;TZID=America/Halifax:20260509T140000
DTEND;TZID=America/Halifax:20260509T150000
DTSTAMP:20260420T021854
CREATED:20260319T183859Z
LAST-MODIFIED:20260319T183859Z
UID:10027207-1778335200-1778338800@hbssc.ca
SUMMARY:Corkum Party
DESCRIPTION:Ashton
URL:https://hbssc.ca/event/corkum-party/
CATEGORIES:EastLink Community Room
END:VEVENT
BEGIN:VEVENT
DTSTART;TZID=America/Halifax:20260509T140000
DTEND;TZID=America/Halifax:20260509T150000
DTSTAMP:20260420T021854
CREATED:20260409T134321Z
LAST-MODIFIED:20260409T134321Z
UID:10027638-1778335200-1778338800@hbssc.ca
SUMMARY:Ernst 1/2 field bouncy castle party
DESCRIPTION:Pam
URL:https://hbssc.ca/event/ernst-1-2-field-bouncy-castle-party/
CATEGORIES:Playing Field
END:VEVENT
BEGIN:VEVENT
DTSTART;TZID=America/Halifax:20260509T143000
DTEND;TZID=America/Halifax:20260509T153000
DTSTAMP:20260420T021854
CREATED:20260408T133506Z
LAST-MODIFIED:20260408T133506Z
UID:10027513-1778337000-1778340600@hbssc.ca
SUMMARY:Worthing Full Field Bouncy Castle Party
DESCRIPTION:Tiffany
URL:https://hbssc.ca/event/worthing-full-field-bouncy-castle-party/
CATEGORIES:Playing Field
END:VEVENT
END:VCALENDAR