BEGIN:VCALENDAR
VERSION:2.0
PRODID:-//HB STUDIOS SPORTS CENTRE - ECPv6.15.17.1//NONSGML v1.0//EN
CALSCALE:GREGORIAN
METHOD:PUBLISH
X-WR-CALNAME:HB STUDIOS SPORTS CENTRE
X-ORIGINAL-URL:https://hbssc.ca
X-WR-CALDESC:Events for HB STUDIOS SPORTS CENTRE
REFRESH-INTERVAL;VALUE=DURATION:PT1H
X-Robots-Tag:noindex
X-PUBLISHED-TTL:PT1H
BEGIN:VTIMEZONE
TZID:America/Halifax
BEGIN:DAYLIGHT
TZOFFSETFROM:-0400
TZOFFSETTO:-0300
TZNAME:ADT
DTSTART:20250309T060000
END:DAYLIGHT
BEGIN:STANDARD
TZOFFSETFROM:-0300
TZOFFSETTO:-0400
TZNAME:AST
DTSTART:20251102T050000
END:STANDARD
BEGIN:DAYLIGHT
TZOFFSETFROM:-0400
TZOFFSETTO:-0300
TZNAME:ADT
DTSTART:20260308T060000
END:DAYLIGHT
BEGIN:STANDARD
TZOFFSETFROM:-0300
TZOFFSETTO:-0400
TZNAME:AST
DTSTART:20261101T050000
END:STANDARD
BEGIN:DAYLIGHT
TZOFFSETFROM:-0400
TZOFFSETTO:-0300
TZNAME:ADT
DTSTART:20270314T060000
END:DAYLIGHT
BEGIN:STANDARD
TZOFFSETFROM:-0300
TZOFFSETTO:-0400
TZNAME:AST
DTSTART:20271107T050000
END:STANDARD
END:VTIMEZONE
BEGIN:VEVENT
DTSTART;TZID=America/Halifax:20260426T203000
DTEND;TZID=America/Halifax:20260426T213000
DTSTAMP:20260420T020231
CREATED:20260419T233257Z
LAST-MODIFIED:20260419T233257Z
UID:10027757-1777235400-1777239000@hbssc.ca
SUMMARY:Lunenburg FC
DESCRIPTION:
URL:https://hbssc.ca/event/lunenburg-fc-2/2026-04-26/
CATEGORIES:Playing Field
END:VEVENT
BEGIN:VEVENT
DTSTART;TZID=America/Halifax:20260503T203000
DTEND;TZID=America/Halifax:20260503T213000
DTSTAMP:20260420T020231
CREATED:20260419T233257Z
LAST-MODIFIED:20260419T233257Z
UID:10027758-1777840200-1777843800@hbssc.ca
SUMMARY:Lunenburg FC
DESCRIPTION:
URL:https://hbssc.ca/event/lunenburg-fc-2/2026-05-03/
CATEGORIES:Playing Field
END:VEVENT
BEGIN:VEVENT
DTSTART;TZID=America/Halifax:20260517T203000
DTEND;TZID=America/Halifax:20260517T213000
DTSTAMP:20260420T020231
CREATED:20260419T233257Z
LAST-MODIFIED:20260419T233257Z
UID:10027759-1779049800-1779053400@hbssc.ca
SUMMARY:Lunenburg FC
DESCRIPTION:
URL:https://hbssc.ca/event/lunenburg-fc-2/2026-05-17/
CATEGORIES:Playing Field
END:VEVENT
BEGIN:VEVENT
DTSTART;TZID=America/Halifax:20260524T203000
DTEND;TZID=America/Halifax:20260524T213000
DTSTAMP:20260420T020231
CREATED:20260419T233257Z
LAST-MODIFIED:20260419T233257Z
UID:10027760-1779654600-1779658200@hbssc.ca
SUMMARY:Lunenburg FC
DESCRIPTION:
URL:https://hbssc.ca/event/lunenburg-fc-2/2026-05-24/
CATEGORIES:Playing Field
END:VEVENT
END:VCALENDAR